BEGIN:VCALENDAR
VERSION:2.0
PRODID:-//Murray PHN - ECPv6.15.20//NONSGML v1.0//EN
CALSCALE:GREGORIAN
METHOD:PUBLISH
X-WR-CALNAME:Murray PHN
X-ORIGINAL-URL:https://murrayphn.org.au
X-WR-CALDESC:Events for Murray PHN
REFRESH-INTERVAL;VALUE=DURATION:PT1H
X-Robots-Tag:noindex
X-PUBLISHED-TTL:PT1H
BEGIN:VTIMEZONE
TZID:Australia/Melbourne
BEGIN:STANDARD
TZOFFSETFROM:+1100
TZOFFSETTO:+1000
TZNAME:AEST
DTSTART:20230401T160000
END:STANDARD
BEGIN:DAYLIGHT
TZOFFSETFROM:+1000
TZOFFSETTO:+1100
TZNAME:AEDT
DTSTART:20230930T160000
END:DAYLIGHT
BEGIN:STANDARD
TZOFFSETFROM:+1100
TZOFFSETTO:+1000
TZNAME:AEST
DTSTART:20240406T160000
END:STANDARD
BEGIN:DAYLIGHT
TZOFFSETFROM:+1000
TZOFFSETTO:+1100
TZNAME:AEDT
DTSTART:20241005T160000
END:DAYLIGHT
BEGIN:STANDARD
TZOFFSETFROM:+1100
TZOFFSETTO:+1000
TZNAME:AEST
DTSTART:20250405T160000
END:STANDARD
BEGIN:DAYLIGHT
TZOFFSETFROM:+1000
TZOFFSETTO:+1100
TZNAME:AEDT
DTSTART:20251004T160000
END:DAYLIGHT
END:VTIMEZONE
BEGIN:VEVENT
DTSTART;TZID=Australia/Melbourne:20241126T100000
DTEND;TZID=Australia/Melbourne:20241126T120000
DTSTAMP:20260424T225241
CREATED:20241007T042239Z
LAST-MODIFIED:20241010T231247Z
UID:10000373-1732615200-1732622400@murrayphn.org.au
SUMMARY:Medication management and restrictive practices for providers of aged care | Bendigo
DESCRIPTION:To ensure quality of life for older people through appropriate use of medications\, The Aged Care Quality and Safety Commission will provide education on the current evidence\, legislative requirements and roles and responsibilities of aged care providers. \nThis event is for clinical staff working in aged care\, including registered nurses\, clinical managers\, allied health staff and pharmacists. \nClick here to learn more and register.
URL:https://murrayphn.org.au/event/medication-management-for-providers-of-aged-care-bendigo/
LOCATION:Quality Hotel Lakeside\, 286 Napier Street\, Bendigo\, VIC\, 3550\, Australia
CATEGORIES:Bendigo,Workshop
ATTACH;FMTTYPE=image/jpeg:https://murrayphn.org.au/wp-content/uploads/2024/10/MEDICATION-MANAGEMENT_provider.jpg
ORGANIZER;CN="Murray PHN":MAILTO:education@murrayphn.org.au
END:VEVENT
BEGIN:VEVENT
DTSTART;TZID=Australia/Melbourne:20241126T183000
DTEND;TZID=Australia/Melbourne:20241126T193000
DTSTAMP:20260424T225241
CREATED:20240924T062236Z
LAST-MODIFIED:20241006T225516Z
UID:10000349-1732645800-1732649400@murrayphn.org.au
SUMMARY:Chronic Kidney Disease - Hypertension | Webinar
DESCRIPTION:GPs\, nurses and other primary healthcare professionals are invited to attend this webinar to hear from Associate Professor Chris Holmes\, Clinical Director – Nephrology at Bendigo Health. \nThe webinar will explore the difference between resistant hypertension and refractory hypertension\, how hypertension and chronic kidney disease relate\, and best practice treatments in the primary care setting. \nClick here to learn more and register. \nAccreditation:\nThis webinar is approved for 1.0 hour of educational activities. \n\nRACGP Activity Id 500985\nACRRM ID 34635\n\n     
URL:https://murrayphn.org.au/event/chronic-kidney-disease-hypertension-webinar/
LOCATION:Webinar
CATEGORIES:Webinar
ATTACH;FMTTYPE=image/jpeg:https://murrayphn.org.au/wp-content/uploads/2024/09/CKD-hypertension-webinar-1.jpg
ORGANIZER;CN="Murray PHN":MAILTO:education@murrayphn.org.au
END:VEVENT
BEGIN:VEVENT
DTSTART;TZID=Australia/Melbourne:20241126T183000
DTEND;TZID=Australia/Melbourne:20241126T203000
DTSTAMP:20260424T225241
CREATED:20241003T032233Z
LAST-MODIFIED:20241003T032233Z
UID:10000368-1732645800-1732653000@murrayphn.org.au
SUMMARY:GP/GP registrar initial assessment and referral training | Online
DESCRIPTION:The Initial Assessment and Referral – Decision Support Tool (IAR-DST) is an initiative of the Department of Health and Aged Care. It supports clinicians in matching a person’s treatment needs with the right intensity of mental health support\, at the right time. \nThis workshop is for GP/GP registrars to learn how to use the IAR decision support tool to help people seeking mental health support. \nA $300 payment is available for eligible GPs who complete the two-hour training. This training is an approved CPD activity for RACGP/ ACRRM members. \nClick here to register
URL:https://murrayphn.org.au/event/gp-gp-registrar-initial-assessment-and-referral-training-online-8/
LOCATION:Webinar
CATEGORIES:Training,Webinar
ORGANIZER;CN="Murray PHN":MAILTO:education@murrayphn.org.au
END:VEVENT
BEGIN:VEVENT
DTSTART;TZID=Australia/Melbourne:20241126T183000
DTEND;TZID=Australia/Melbourne:20241126T203000
DTSTAMP:20260424T225241
CREATED:20241007T042441Z
LAST-MODIFIED:20241010T231328Z
UID:10000374-1732645800-1732653000@murrayphn.org.au
SUMMARY:Medication management and restrictive practices for prescribers in aged care | Bendigo
DESCRIPTION:To ensure quality of life for older people through appropriate use of medications\, The Aged Care Quality and Safety Commission will provide education on the current evidence\, legislative requirements and roles and responsibilities of prescribers. \nThis event is for general practitioners\, nurse practitioners\, and other prescribers working with older people receiving aged care services. \nClick here to learn more and register.
URL:https://murrayphn.org.au/event/medication-management-for-prescribers-in-aged-care-bendigo/
LOCATION:Quality Hotel Lakeside\, 286 Napier Street\, Bendigo\, VIC\, 3550\, Australia
CATEGORIES:Bendigo,Workshop
ATTACH;FMTTYPE=image/jpeg:https://murrayphn.org.au/wp-content/uploads/2024/10/MEDICATION-MANAGEMENT_prescriber.jpg
ORGANIZER;CN="Murray PHN":MAILTO:education@murrayphn.org.au
END:VEVENT
END:VCALENDAR