BEGIN:VCALENDAR
VERSION:2.0
PRODID:-//Murray PHN - ECPv6.15.20//NONSGML v1.0//EN
CALSCALE:GREGORIAN
METHOD:PUBLISH
X-ORIGINAL-URL:https://murrayphn.org.au
X-WR-CALDESC:Events for Murray PHN
REFRESH-INTERVAL;VALUE=DURATION:PT1H
X-Robots-Tag:noindex
X-PUBLISHED-TTL:PT1H
BEGIN:VTIMEZONE
TZID:Australia/Melbourne
BEGIN:STANDARD
TZOFFSETFROM:+1100
TZOFFSETTO:+1000
TZNAME:AEST
DTSTART:20240406T160000
END:STANDARD
BEGIN:DAYLIGHT
TZOFFSETFROM:+1000
TZOFFSETTO:+1100
TZNAME:AEDT
DTSTART:20241005T160000
END:DAYLIGHT
BEGIN:STANDARD
TZOFFSETFROM:+1100
TZOFFSETTO:+1000
TZNAME:AEST
DTSTART:20250405T160000
END:STANDARD
BEGIN:DAYLIGHT
TZOFFSETFROM:+1000
TZOFFSETTO:+1100
TZNAME:AEDT
DTSTART:20251004T160000
END:DAYLIGHT
BEGIN:STANDARD
TZOFFSETFROM:+1100
TZOFFSETTO:+1000
TZNAME:AEST
DTSTART:20260404T160000
END:STANDARD
BEGIN:DAYLIGHT
TZOFFSETFROM:+1000
TZOFFSETTO:+1100
TZNAME:AEDT
DTSTART:20261003T160000
END:DAYLIGHT
END:VTIMEZONE
BEGIN:VEVENT
DTSTART;TZID=Australia/Melbourne:20250331T090000
DTEND;TZID=Australia/Melbourne:20250414T170000
DTSTAMP:20260423T123314
CREATED:20250121T044643Z
LAST-MODIFIED:20250121T044643Z
UID:10000507-1743411600-1744650000@murrayphn.org.au
SUMMARY:Contemporary TGD Health for GPs and Prescribing Clinicians | Melbourne
DESCRIPTION:Created specifically for the unique needs of General Practitioners\, this CPD-accredited and free-of-charge course is designed to empower and equip Victorian GPs in transgender and gender diverse (TGD) primary care. \nCo-designed and delivered by leading General Practitioners in the field and TGD health professionals\, this initiative has been created to improve health outcomes and access for the trans and gender diverse population across the state. \nThe course combines interactive\, didactic\, and case-based learning covering topics such as: \n\nGender Affirming Hormone Therapy\nAffirmative Practice & clinical logistics\nSurgical options and referral\nMental health referral and support\nMedicare considerations\nFinding a community of practice.\n\nThis is a full day intensive workshop. Location is TBC but will take place either at the Positive Living Centre in South Yarra or at Thorne Harbour Health in Abottsford. \nClick here to learn more and register.
URL:https://murrayphn.org.au/event/contemporary-tgd-health-for-gps-and-prescribing-clinicians-melbourne/
LOCATION:TBC
CATEGORIES:Training,Workshop
ATTACH;FMTTYPE=image/jpeg:https://murrayphn.org.au/wp-content/uploads/2024/05/event-external.jpg
ORGANIZER;CN="Thorne Harbour Health":MAILTO:enquiries@thorneharbour.org
END:VEVENT
BEGIN:VEVENT
DTSTART;TZID=Australia/Melbourne:20250404T090000
DTEND;TZID=Australia/Melbourne:20250404T160000
DTSTAMP:20260423T123314
CREATED:20250204T220023Z
LAST-MODIFIED:20250204T220023Z
UID:10000521-1743757200-1743782400@murrayphn.org.au
SUMMARY:Diabetes management workshop | Online
DESCRIPTION:Delivered by Benchmarque Group. \nIn this one-day workshop\, students receive up to date information and best practice knowledge on Diabetes education\, inclusive of Type 1\, Type 2\, and Gestational Diabetes. It has been developed specifically to meet the needs of individuals who support patients with\, or at risk of developing\, Diabetes. \nThe workshop is designed to provide a broad range of skills and knowledge that can deliver immediate results for patients. The learning outcomes include:\n• Refresh knowledge on the pathophysiology of diabetes and different types of diabetes mellitus.\n• Describe common diabetes medications\, their actions\, side effects and contraindications.\n• Discuss insulin therapy\, including different modes of actions and the education to offer clients around insulin administration.\n• Demonstrate an understanding of hypoglycaemia\, hyperglycaemia and diabetic ketoacidosis.\n• Review principles of Blood Glucose Monitoring and the education to offer to clients regarding this.\n• Explore psychological impact of living with diabetes.\n• Understand your local diabetes care pathways. \nTarget audience: Nurses \nClick here for more information and to register
URL:https://murrayphn.org.au/event/diabetes-management-workshop-online/
LOCATION:Victoria
CATEGORIES:External event
ATTACH;FMTTYPE=image/jpeg:https://murrayphn.org.au/wp-content/uploads/2024/05/event-external2.jpg
ORGANIZER;CN="Benchmarque Group":MAILTO:courses@benchmarquegroup.com.au
END:VEVENT
END:VCALENDAR