BEGIN:VCALENDAR
VERSION:2.0
PRODID:-//Murray PHN - ECPv6.15.20//NONSGML v1.0//EN
CALSCALE:GREGORIAN
METHOD:PUBLISH
X-WR-CALNAME:Murray PHN
X-ORIGINAL-URL:https://murrayphn.org.au
X-WR-CALDESC:Events for Murray PHN
REFRESH-INTERVAL;VALUE=DURATION:PT1H
X-Robots-Tag:noindex
X-PUBLISHED-TTL:PT1H
BEGIN:VTIMEZONE
TZID:Australia/Melbourne
BEGIN:STANDARD
TZOFFSETFROM:+1100
TZOFFSETTO:+1000
TZNAME:AEST
DTSTART:20250405T160000
END:STANDARD
BEGIN:DAYLIGHT
TZOFFSETFROM:+1000
TZOFFSETTO:+1100
TZNAME:AEDT
DTSTART:20251004T160000
END:DAYLIGHT
BEGIN:STANDARD
TZOFFSETFROM:+1100
TZOFFSETTO:+1000
TZNAME:AEST
DTSTART:20260404T160000
END:STANDARD
BEGIN:DAYLIGHT
TZOFFSETFROM:+1000
TZOFFSETTO:+1100
TZNAME:AEDT
DTSTART:20261003T160000
END:DAYLIGHT
BEGIN:STANDARD
TZOFFSETFROM:+1100
TZOFFSETTO:+1000
TZNAME:AEST
DTSTART:20270403T160000
END:STANDARD
BEGIN:DAYLIGHT
TZOFFSETFROM:+1000
TZOFFSETTO:+1100
TZNAME:AEDT
DTSTART:20271002T160000
END:DAYLIGHT
END:VTIMEZONE
BEGIN:VEVENT
DTSTART;TZID=Australia/Melbourne:20260514T110000
DTEND;TZID=Australia/Melbourne:20260514T130000
DTSTAMP:20260426T005321
CREATED:20260420T015520Z
LAST-MODIFIED:20260420T015520Z
UID:10003017-1778756400-1778763600@murrayphn.org.au
SUMMARY:General Practice Network Meeting | Bendigo
DESCRIPTION:General practice staff are invited to attend this network meeting to hear from Murray PHN and the Royal Australian College of General Practitioners (RACGP) and receive an overview of RACGP’s Standards for general practice (6th edition). \nClick here to register.
URL:https://murrayphn.org.au/event/general-practice-network-meeting-bendigo-4/
LOCATION:Quality Lakeside Hotel\, 286 Napier Street\, Bendigo\, Victoria\, 3550\, Australia
CATEGORIES:Bendigo,Networking
ATTACH;FMTTYPE=image/jpeg:https://murrayphn.org.au/wp-content/uploads/2025/08/phn-event-GPNETWK-MEETING.jpg
ORGANIZER;CN="Murray PHN":MAILTO:education@murrayphn.org.au
END:VEVENT
BEGIN:VEVENT
DTSTART;TZID=Australia/Melbourne:20260514T183000
DTEND;TZID=Australia/Melbourne:20260514T200000
DTSTAMP:20260426T005321
CREATED:20260326T034558Z
LAST-MODIFIED:20260326T034558Z
UID:10002991-1778783400-1778788800@murrayphn.org.au
SUMMARY:Medication and deprescribing for people living with dementia | Albury
DESCRIPTION:Health professionals working in aged care are invited to hear from Dr Hong Yu\, consultant physician and geriatrician\, to learn the latest skills and strategies to manage medications for people living with dementia. \nClick here for a flyer. \nClick here to learn more and register.
URL:https://murrayphn.org.au/event/medication-and-deprescribing-for-people-living-with-dementia-albury/
LOCATION:Atura Hotel\, 648 Dean Street\, Albury\, NSW\, 2640\, Australia
CATEGORIES:Albury,Workshop
ATTACH;FMTTYPE=image/jpeg:https://murrayphn.org.au/wp-content/uploads/2025/10/EB_generic_CPD_HP-1.jpg
ORGANIZER;CN="Murray PHN":MAILTO:education@murrayphn.org.au
GEO:-36.079598;146.912429
X-APPLE-STRUCTURED-LOCATION;VALUE=URI;X-ADDRESS=Atura Hotel 648 Dean Street Albury NSW 2640 Australia;X-APPLE-RADIUS=500;X-TITLE=648 Dean Street:geo:146.912429,-36.079598
END:VEVENT
END:VCALENDAR