BEGIN:VCALENDAR
VERSION:2.0
PRODID:-//Murray PHN - ECPv6.15.20//NONSGML v1.0//EN
CALSCALE:GREGORIAN
METHOD:PUBLISH
X-ORIGINAL-URL:https://murrayphn.org.au
X-WR-CALDESC:Events for Murray PHN
REFRESH-INTERVAL;VALUE=DURATION:PT1H
X-Robots-Tag:noindex
X-PUBLISHED-TTL:PT1H
BEGIN:VTIMEZONE
TZID:Australia/Melbourne
BEGIN:STANDARD
TZOFFSETFROM:+1100
TZOFFSETTO:+1000
TZNAME:AEST
DTSTART:20250405T160000
END:STANDARD
BEGIN:DAYLIGHT
TZOFFSETFROM:+1000
TZOFFSETTO:+1100
TZNAME:AEDT
DTSTART:20251004T160000
END:DAYLIGHT
BEGIN:STANDARD
TZOFFSETFROM:+1100
TZOFFSETTO:+1000
TZNAME:AEST
DTSTART:20260404T160000
END:STANDARD
BEGIN:DAYLIGHT
TZOFFSETFROM:+1000
TZOFFSETTO:+1100
TZNAME:AEDT
DTSTART:20261003T160000
END:DAYLIGHT
BEGIN:STANDARD
TZOFFSETFROM:+1100
TZOFFSETTO:+1000
TZNAME:AEST
DTSTART:20270403T160000
END:STANDARD
BEGIN:DAYLIGHT
TZOFFSETFROM:+1000
TZOFFSETTO:+1100
TZNAME:AEDT
DTSTART:20271002T160000
END:DAYLIGHT
END:VTIMEZONE
BEGIN:VEVENT
DTSTART;TZID=Australia/Melbourne:20260520T100000
DTEND;TZID=Australia/Melbourne:20260520T140000
DTSTAMP:20260423T231800
CREATED:20260302T010807Z
LAST-MODIFIED:20260413T035304Z
UID:10002898-1779271200-1779285600@murrayphn.org.au
SUMMARY:Urgent care identification workshop for frontline staff | Bendigo (fully booked - join waitlist)
DESCRIPTION:Urgent care identification training supports people to be able to respond quickly and effectively to emergencies\, such as cardiac arrest\, severe allergic reactions\, traumatic injuries and respiratory distress. \nMedical administrators\, receptionists\, practice managers\, Aboriginal health workers and other non-clinical and health administration staff working in local primary healthcare services can attend this workshop to develop knowledge and skills to recognise potentially unwell or deteriorating patients. \nThis event is fully booked.  Click here to join the wait list.
URL:https://murrayphn.org.au/event/urgent-care-identification-workshop-for-frontline-staff/
LOCATION:Quality Lakeside Hotel\, 286 Napier Street\, Bendigo\, Victoria\, 3550\, Australia
CATEGORIES:Bendigo,Workshop
ATTACH;FMTTYPE=image/jpeg:https://murrayphn.org.au/wp-content/uploads/2024/05/phn-event7.jpg
ORGANIZER;CN="Murray PHN":MAILTO:education@murrayphn.org.au
END:VEVENT
BEGIN:VEVENT
DTSTART;TZID=Australia/Melbourne:20260520T110000
DTEND;TZID=Australia/Melbourne:20260520T130000
DTSTAMP:20260423T231800
CREATED:20260414T055337Z
LAST-MODIFIED:20260420T015528Z
UID:10003007-1779274800-1779282000@murrayphn.org.au
SUMMARY:General Practice Network Meeting | Echuca
DESCRIPTION:General practice staff are invited to attend this network meeting to hear from Murray PHN and the Royal Australian College of General Practitioners (RACGP) and receive an overview of RACGP’s Standards for general practice (6th edition). \nClick here to register.
URL:https://murrayphn.org.au/event/general-practice-network-meeting-echuca-4/
LOCATION:Quest Echuca\, 25-29 Heygarth Street\, Echuca\, Victoria\, 3564\, Australia
CATEGORIES:Echuca,Networking
ATTACH;FMTTYPE=image/jpeg:https://murrayphn.org.au/wp-content/uploads/2025/08/phn-event-GPNETWK-MEETING.jpg
ORGANIZER;CN="Murray PHN":MAILTO:education@murrayphn.org.au
GEO:-36.1245964;144.7493572
X-APPLE-STRUCTURED-LOCATION;VALUE=URI;X-ADDRESS=Quest Echuca 25-29 Heygarth Street Echuca Victoria 3564 Australia;X-APPLE-RADIUS=500;X-TITLE=25-29 Heygarth Street:geo:144.7493572,-36.1245964
END:VEVENT
BEGIN:VEVENT
DTSTART;TZID=Australia/Melbourne:20260520T183000
DTEND;TZID=Australia/Melbourne:20260520T203000
DTSTAMP:20260423T231800
CREATED:20260423T011756Z
LAST-MODIFIED:20260423T011756Z
UID:10003025-1779301800-1779309000@murrayphn.org.au
SUMMARY:Sexual and reproductive health update | Swan Hill
DESCRIPTION:GPs\, nurses\, nurse practitioners\, Aboriginal health practitioners and workers can attend this event for updates on local sexually transmissible infection and bloodborne virus epidemiology and reproductive healthcare. Hear from presenters from The Royal Women’s Hospital\, Loddon Mallee Public Health Unit\, Swan Hill District Health and the Centre for Excellence in Rural Sexual Health. \nClick here to learn more and register.
URL:https://murrayphn.org.au/event/sexual-and-reproductive-health-update-swan-hill/
LOCATION:One28 Doors\, 128 Curlewis Street\, Swan Hill\, Victoria\, 3585\, Australia
CATEGORIES:Swan Hill,Workshop
ATTACH;FMTTYPE=image/jpeg:https://murrayphn.org.au/wp-content/uploads/2024/05/phn-event.jpg
ORGANIZER;CN="Murray PHN":MAILTO:education@murrayphn.org.au
END:VEVENT
END:VCALENDAR