BEGIN:VCALENDAR
VERSION:2.0
PRODID:-//Murray PHN - ECPv6.15.20//NONSGML v1.0//EN
CALSCALE:GREGORIAN
METHOD:PUBLISH
X-ORIGINAL-URL:https://murrayphn.org.au
X-WR-CALDESC:Events for Murray PHN
REFRESH-INTERVAL;VALUE=DURATION:PT1H
X-Robots-Tag:noindex
X-PUBLISHED-TTL:PT1H
BEGIN:VTIMEZONE
TZID:Australia/Melbourne
BEGIN:STANDARD
TZOFFSETFROM:+1100
TZOFFSETTO:+1000
TZNAME:AEST
DTSTART:20240406T160000
END:STANDARD
BEGIN:DAYLIGHT
TZOFFSETFROM:+1000
TZOFFSETTO:+1100
TZNAME:AEDT
DTSTART:20241005T160000
END:DAYLIGHT
BEGIN:STANDARD
TZOFFSETFROM:+1100
TZOFFSETTO:+1000
TZNAME:AEST
DTSTART:20250405T160000
END:STANDARD
BEGIN:DAYLIGHT
TZOFFSETFROM:+1000
TZOFFSETTO:+1100
TZNAME:AEDT
DTSTART:20251004T160000
END:DAYLIGHT
BEGIN:STANDARD
TZOFFSETFROM:+1100
TZOFFSETTO:+1000
TZNAME:AEST
DTSTART:20260404T160000
END:STANDARD
BEGIN:DAYLIGHT
TZOFFSETFROM:+1000
TZOFFSETTO:+1100
TZNAME:AEDT
DTSTART:20261003T160000
END:DAYLIGHT
END:VTIMEZONE
BEGIN:VEVENT
DTSTART;TZID=Australia/Melbourne:20250604T130000
DTEND;TZID=Australia/Melbourne:20250604T133000
DTSTAMP:20260421T151144
CREATED:20250519T040335Z
LAST-MODIFIED:20250519T040335Z
UID:10002644-1749042000-1749043800@murrayphn.org.au
SUMMARY:APNA Transition to Practice Program information session | Online
DESCRIPTION:Hosted by the Australian Primary Health Care Nurses Association (APNA) \nIf you are a recent graduate or new to working outside a hospital and looking for extra support as you settle into your role\, APNA’s free Transition to Practice Program is now open for applications for our June 2025 intake. \nThe eight-month program offers exclusive educational tools and resources\, an experienced nurse mentor\, and peer support from nurses just like you through small group learning activities. \nWe’re also looking for experienced primary health care nurses interested in becoming paid mentors on the program. \nAre you thinking about applying but have some questions before you do? \nJoin us for a Zoom drop-in session where our expert team will happily answer them! \nTarget audience: General practice staff \nClick here for more information and to register
URL:https://murrayphn.org.au/event/apna-transition-to-practice-program-information-session-online/
CATEGORIES:Course,External event,Meeting,Online course,Webinar
ATTACH;FMTTYPE=image/jpeg:https://murrayphn.org.au/wp-content/uploads/2024/05/event-external.jpg
ORGANIZER;CN="Australian Primary Health Care Nurses Association (APNA)":MAILTO:events@apna.asn.au
END:VEVENT
BEGIN:VEVENT
DTSTART;TZID=Australia/Melbourne:20250508T130000
DTEND;TZID=Australia/Melbourne:20250508T150000
DTSTAMP:20260421T151144
CREATED:20250424T035911Z
LAST-MODIFIED:20250424T040840Z
UID:10002624-1746709200-1746716400@murrayphn.org.au
SUMMARY:Wesley LifeForce Suicide Prevention for disability support workers | Mildura
DESCRIPTION:Hosted by Wesley Mission\nThis workshop provides essential skills training to recognise and respond to a person living with a disability who may be experiencing mental health distress and who may be at risk of suicide. \nTopics: \n\nSafe use of language\nAustralian suicide statistics\nRisk factors and protective factors\nWarning signs\nSupporting someone and active listening\nHow to ask about suicide\nSafety planning\nEngaging in self-care practice\n\nTarget audience: All frontline workers \nClick here for more information and to register
URL:https://murrayphn.org.au/event/wesley-lifeforce-suicide-prevention-for-disability-support-work-mildura/
LOCATION:Eco Education Centre\, 15 Scherger Drive\, Mildura\, Vic\, 3500\, Australia
CATEGORIES:Course,Forum
ATTACH;FMTTYPE=image/jpeg:https://murrayphn.org.au/wp-content/uploads/2024/05/event-external3.jpg
ORGANIZER;CN="Wesley Lifeforce":MAILTO:Linda.Kearley@wesleymission.org.au
END:VEVENT
BEGIN:VEVENT
DTSTART;TZID=Australia/Melbourne:20250508T110000
DTEND;TZID=Australia/Melbourne:20250508T120000
DTSTAMP:20260421T151144
CREATED:20250424T040652Z
LAST-MODIFIED:20250424T040746Z
UID:10002625-1746702000-1746705600@murrayphn.org.au
SUMMARY:Wesley LifeForce Suicide Prevention for aged care workers | Mildura
DESCRIPTION:Hosted by Wesley Lifeforce\nThis workshop provides essential skills training to recognise and respond to a person who may be experiencing mental health distress and who may be at risk of suicide. \nTopics: \n\nSafe language when talking about suicide\n\n\nAustralian suicide statistics\n\n\nRisk factors and protective factors\n\n\nWarning signs\n\n\nSupporting someone you are concerned about\n\n\nNotifying and recording your concerns\n\n\nEngaging in self-care practice\n\nTarget audience: Aged care workers \nClick here for more information and to register
URL:https://murrayphn.org.au/event/wesley-lifeforce-suicide-prevention-for-aged-care-workers-mildura/
LOCATION:Eco Education Centre\, 15 Scherger Drive\, Mildura\, Vic\, 3500\, Australia
CATEGORIES:Course,Forum
ATTACH;FMTTYPE=image/jpeg:https://murrayphn.org.au/wp-content/uploads/2024/05/event-external4.jpg
ORGANIZER;CN="Wesley Lifeforce":MAILTO:Linda.Kearley@wesleymission.org.au
END:VEVENT
END:VCALENDAR