BEGIN:VCALENDAR
VERSION:2.0
PRODID:-//Murray PHN - ECPv6.15.20//NONSGML v1.0//EN
CALSCALE:GREGORIAN
METHOD:PUBLISH
X-ORIGINAL-URL:https://murrayphn.org.au
X-WR-CALDESC:Events for Murray PHN
REFRESH-INTERVAL;VALUE=DURATION:PT1H
X-Robots-Tag:noindex
X-PUBLISHED-TTL:PT1H
BEGIN:VTIMEZONE
TZID:Australia/Melbourne
BEGIN:STANDARD
TZOFFSETFROM:+1100
TZOFFSETTO:+1000
TZNAME:AEST
DTSTART:20230401T160000
END:STANDARD
BEGIN:DAYLIGHT
TZOFFSETFROM:+1000
TZOFFSETTO:+1100
TZNAME:AEDT
DTSTART:20230930T160000
END:DAYLIGHT
BEGIN:STANDARD
TZOFFSETFROM:+1100
TZOFFSETTO:+1000
TZNAME:AEST
DTSTART:20240406T160000
END:STANDARD
BEGIN:DAYLIGHT
TZOFFSETFROM:+1000
TZOFFSETTO:+1100
TZNAME:AEDT
DTSTART:20241005T160000
END:DAYLIGHT
BEGIN:STANDARD
TZOFFSETFROM:+1100
TZOFFSETTO:+1000
TZNAME:AEST
DTSTART:20250405T160000
END:STANDARD
BEGIN:DAYLIGHT
TZOFFSETFROM:+1000
TZOFFSETTO:+1100
TZNAME:AEDT
DTSTART:20251004T160000
END:DAYLIGHT
BEGIN:STANDARD
TZOFFSETFROM:+1100
TZOFFSETTO:+1000
TZNAME:AEST
DTSTART:20260404T160000
END:STANDARD
BEGIN:DAYLIGHT
TZOFFSETFROM:+1000
TZOFFSETTO:+1100
TZNAME:AEDT
DTSTART:20261003T160000
END:DAYLIGHT
BEGIN:STANDARD
TZOFFSETFROM:+1100
TZOFFSETTO:+1000
TZNAME:AEST
DTSTART:20270403T160000
END:STANDARD
BEGIN:DAYLIGHT
TZOFFSETFROM:+1000
TZOFFSETTO:+1100
TZNAME:AEDT
DTSTART:20271002T160000
END:DAYLIGHT
END:VTIMEZONE
BEGIN:VEVENT
DTSTART;TZID=Australia/Melbourne:20260219T180000
DTEND;TZID=Australia/Melbourne:20260219T203000
DTSTAMP:20260421T105538
CREATED:20260129T011730Z
LAST-MODIFIED:20260211T220705Z
UID:10002865-1771524000-1771533000@murrayphn.org.au
SUMMARY:Allied Health Community of Practice | Albury (Wait list only)
DESCRIPTION:To help foster a sense of community and provide an opportunity for interprofessional networking\, Murray PHN is hosting an event for allied health professionals to come together\, learn and discuss their experiences. \nThis event will focus on collaboration and understanding allied health in the primary care landscape with local guest speakers. \nTopics: \n\nUnderstanding the role of PHN’s\, their relevance to your work and PHN’s strategic direction for engagement with allied health\nMurray PHN HealthPathways\nMurray PHN support for complex and integrated care\nMurray PHN support for digital health.\n\nThis event is provided at no cost by Murray PHN. Dinner provided. \nClick here to join the waitlist.
URL:https://murrayphn.org.au/event/allied-health-community-of-practice-albury/
LOCATION:Atura Hotel\, 648 Dean Street\, Albury\, NSW\, 2640\, Australia
CATEGORIES:Albury,Networking
ATTACH;FMTTYPE=image/jpeg:https://murrayphn.org.au/wp-content/uploads/2025/08/Allied-health-community-of-practice.jpg
ORGANIZER;CN="Murray PHN":MAILTO:education@murrayphn.org.au
GEO:-36.079598;146.912429
X-APPLE-STRUCTURED-LOCATION;VALUE=URI;X-ADDRESS=Atura Hotel 648 Dean Street Albury NSW 2640 Australia;X-APPLE-RADIUS=500;X-TITLE=648 Dean Street:geo:146.912429,-36.079598
END:VEVENT
BEGIN:VEVENT
DTSTART;TZID=Australia/Melbourne:20251030T180000
DTEND;TZID=Australia/Melbourne:20251030T210000
DTSTAMP:20260421T105538
CREATED:20250828T054238Z
LAST-MODIFIED:20250930T061252Z
UID:10002733-1761847200-1761858000@murrayphn.org.au
SUMMARY:General practice network meeting | Albury
DESCRIPTION:General practice staff are invited to attend this meeting to network with peers\, receive industry updates and discuss quality improvement learnings with our GP support team. The evening will also include a presentation from Wendy O’Meara. \nClick here to learn more and register.
URL:https://murrayphn.org.au/event/general-practice-network-meeting-albury/
LOCATION:Atura Hotel\, 648 Dean Street\, Albury\, NSW\, 2640\, Australia
CATEGORIES:Albury,Forum,Networking
ATTACH;FMTTYPE=image/jpeg:https://murrayphn.org.au/wp-content/uploads/2025/08/phn-event-GPNETWK-MEETING.jpg
ORGANIZER;CN="Murray PHN":MAILTO:education@murrayphn.org.au
GEO:-36.079598;146.912429
X-APPLE-STRUCTURED-LOCATION;VALUE=URI;X-ADDRESS=Atura Hotel 648 Dean Street Albury NSW 2640 Australia;X-APPLE-RADIUS=500;X-TITLE=648 Dean Street:geo:146.912429,-36.079598
END:VEVENT
BEGIN:VEVENT
DTSTART;TZID=Australia/Melbourne:20250903T180000
DTEND;TZID=Australia/Melbourne:20250903T203000
DTSTAMP:20260421T105538
CREATED:20250630T232749Z
LAST-MODIFIED:20250714T003117Z
UID:10002682-1756922400-1756931400@murrayphn.org.au
SUMMARY:CoP for Health Professionals working in Residential Aged Care | Albury
DESCRIPTION:Clinical and care staff who work in and provide services to residential aged care homes are invited to attend an evening focussed on collaboration and mental health. Keynote speaker Professor Sunil Bhar from Swinburne University of Technology\, will be joined by a panel of multidisciplinary experts. \nClick here to learn more and register. \nClick here for a flyer.
URL:https://murrayphn.org.au/event/cop-for-health-professionals-working-in-residential-aged-care-albury/
LOCATION:Atura Hotel\, 648 Dean Street\, Albury\, NSW\, 2640\, Australia
CATEGORIES:Albury,Networking
ATTACH;FMTTYPE=image/jpeg:https://murrayphn.org.au/wp-content/uploads/2025/03/phn-event_COP_HP.jpg
ORGANIZER;CN="Murray PHN":MAILTO:education@murrayphn.org.au
GEO:-36.079598;146.912429
X-APPLE-STRUCTURED-LOCATION;VALUE=URI;X-ADDRESS=Atura Hotel 648 Dean Street Albury NSW 2640 Australia;X-APPLE-RADIUS=500;X-TITLE=648 Dean Street:geo:146.912429,-36.079598
END:VEVENT
BEGIN:VEVENT
DTSTART;TZID=Australia/Melbourne:20250724T180000
DTEND;TZID=Australia/Melbourne:20250724T210000
DTSTAMP:20260421T105538
CREATED:20250701T045109Z
LAST-MODIFIED:20250723T040945Z
UID:10002685-1753380000-1753390800@murrayphn.org.au
SUMMARY:Murray PHN local Mental Health and Psychosocial Services | Albury Wodonga
DESCRIPTION:GPs and GP Registrars involved in mental health assessment and referral processes are invited to this dedicated workshop\, with reimbursement available. \nThe workshop will not only provide an overview of the range of local mental health services commissioned by Murray PHN\, but the opportunity to share feedback to improve any service gaps or referral challenges. \nClick here to learn more and register.
URL:https://murrayphn.org.au/event/mental-health-and-psychosocial-services-access-and-challenges-albury/
LOCATION:Atura Hotel\, 648 Dean Street\, Albury\, NSW\, 2640\, Australia
CATEGORIES:Albury,Workshop
ATTACH;FMTTYPE=image/jpeg:https://murrayphn.org.au/wp-content/uploads/2024/05/phn-eventGP-1-e1730439670299.jpg
ORGANIZER;CN="Murray PHN":MAILTO:education@murrayphn.org.au
GEO:-36.079598;146.912429
X-APPLE-STRUCTURED-LOCATION;VALUE=URI;X-ADDRESS=Atura Hotel 648 Dean Street Albury NSW 2640 Australia;X-APPLE-RADIUS=500;X-TITLE=648 Dean Street:geo:146.912429,-36.079598
END:VEVENT
BEGIN:VEVENT
DTSTART;TZID=Australia/Melbourne:20250619T180000
DTEND;TZID=Australia/Melbourne:20250619T203000
DTSTAMP:20260421T105538
CREATED:20250512T022154Z
LAST-MODIFIED:20250512T022154Z
UID:10002633-1750356000-1750365000@murrayphn.org.au
SUMMARY:ADHD - a practical approach | Albury
DESCRIPTION:GPs and GP registrars are invited to this event to hear from a local Paediatrician on the assessment and management of ADHD in general practice. \nClick here to register.
URL:https://murrayphn.org.au/event/adhd-a-practical-approach-albury/
LOCATION:Atura Hotel\, 648 Dean Street\, Albury\, NSW\, 2640\, Australia
CATEGORIES:Albury,Workshop
ATTACH;FMTTYPE=image/jpeg:https://murrayphn.org.au/wp-content/uploads/2025/04/phn-event_COP_GP.jpg
ORGANIZER;CN="Murray PHN":MAILTO:education@murrayphn.org.au
GEO:-36.079598;146.912429
X-APPLE-STRUCTURED-LOCATION;VALUE=URI;X-ADDRESS=Atura Hotel 648 Dean Street Albury NSW 2640 Australia;X-APPLE-RADIUS=500;X-TITLE=648 Dean Street:geo:146.912429,-36.079598
END:VEVENT
BEGIN:VEVENT
DTSTART;TZID=Australia/Melbourne:20250519T090000
DTEND;TZID=Australia/Melbourne:20250519T170000
DTSTAMP:20260421T105538
CREATED:20250408T234248Z
LAST-MODIFIED:20250408T234248Z
UID:10002604-1747645200-1747674000@murrayphn.org.au
SUMMARY:Youth in distress: Managing suicidality and self-harm | Albury
DESCRIPTION:Presented by Black Dog Institute\, this training has been designed to build on the current level of skills of psychologists and counsellors working with young people. It aims to further develop confidence in undertaking risk assessments and safety planning for youth in distress. \nThe workshop is suitable for mental health clinicians working with young people providing mental health support in a 1:1 setting. A baseline of knowledge and skills in providing mental health support is assumed. If you do not have this\, this training will not be suitable for you. \nClick here to register.
URL:https://murrayphn.org.au/event/youth-in-distress-managing-suicidality-and-self-harm-albury/
LOCATION:Atura Hotel\, 648 Dean Street\, Albury\, NSW\, 2640\, Australia
CATEGORIES:Albury,Training
ATTACH;FMTTYPE=image/jpeg:https://murrayphn.org.au/wp-content/uploads/2024/05/phn-event2-e1755578671654.jpg
ORGANIZER;CN="Murray PHN":MAILTO:education@murrayphn.org.au
GEO:-36.079598;146.912429
X-APPLE-STRUCTURED-LOCATION;VALUE=URI;X-ADDRESS=Atura Hotel 648 Dean Street Albury NSW 2640 Australia;X-APPLE-RADIUS=500;X-TITLE=648 Dean Street:geo:146.912429,-36.079598
END:VEVENT
BEGIN:VEVENT
DTSTART;TZID=Australia/Melbourne:20250512T090000
DTEND;TZID=Australia/Melbourne:20250513T163000
DTSTAMP:20260421T105538
CREATED:20250311T224409Z
LAST-MODIFIED:20250501T231824Z
UID:10000583-1747040400-1747153800@murrayphn.org.au
SUMMARY:Standard Mental Health First Aid course | Albury
DESCRIPTION:In this two-day course\, participants will learn to identify the signs and symptoms of common mental health issues in adults and to provide initial assistance. The course covers when and where to seek professional help\, including crisis situations\, and explores research-backed strategies for effective support. \nLearning outcomes: \n\nRecognise the signs and symptoms of mental health problems in adults\nUse an evidence-based action plan to initiate a mental health first aid conversation\nKnow the barriers to help-seeking and how to overcome these\nAssess for a range of crisis situations and provide initial support\nUnderstand the prevalence and impact of mental illnesses\, risk factors and treatments and supports available\nApply self-care practices as a Mental Health First Aider.\n\nAudience: Staff working in primary healthcare settings in the Murray PHN region. \nClick here to register.
URL:https://murrayphn.org.au/event/standard-mental-health-first-aid-course-albury/
LOCATION:Atura Hotel\, 648 Dean Street\, Albury\, NSW\, 2640\, Australia
CATEGORIES:Albury,Training
ATTACH;FMTTYPE=image/jpeg:https://murrayphn.org.au/wp-content/uploads/2025/02/Mental-health-first-aid_V2.jpg
ORGANIZER;CN="Murray PHN":MAILTO:education@murrayphn.org.au
GEO:-36.079598;146.912429
X-APPLE-STRUCTURED-LOCATION;VALUE=URI;X-ADDRESS=Atura Hotel 648 Dean Street Albury NSW 2640 Australia;X-APPLE-RADIUS=500;X-TITLE=648 Dean Street:geo:146.912429,-36.079598
END:VEVENT
BEGIN:VEVENT
DTSTART;TZID=Australia/Melbourne:20250306T084500
DTEND;TZID=Australia/Melbourne:20250306T163000
DTSTAMP:20260421T105538
CREATED:20250106T005812Z
LAST-MODIFIED:20250203T011406Z
UID:10000432-1741250700-1741278600@murrayphn.org.au
SUMMARY:Managing wounds in primary health care | Albury (Fully booked - join waitlist)
DESCRIPTION:This workshop is being delivered by Benchmarque Group\, in collaboration with Murray PHN\, and will provide clinicians with an evidence-based framework to assess and manage a variety of wounds while understanding the importance of client-centered education and care. \nLearning outcomes: \n\nAssess\, manage and apply various wound management techniques to a broad range of clients in the primary healthcare setting\nDemonstrate knowledge of various wound management products and materials and the techniques to apply the appropriate product\nObtain a compliant wound swab culture using best practice methods\nApply a broad knowledge of management strategies\, client-centred education and provision of basic care and advice about wound management\nAssess the need for and perform wound management in various settings and educate and assist clients in managing their wounds.\n\nUse code Murray-MWPH25 after logging in as a student to enrol at no cost. \nClick here to join waitlist. \nDownload flyer here. \nEnquiries: Benchmarque Group\, e: courses@benchmarquegroup.com.au or t: 1300 855 568
URL:https://murrayphn.org.au/event/managing-wounds-phc-albury/
LOCATION:Mantra Hotel Albury\, Southern Cross Room\, 524 Smollett Street\, Albury\, New South Wales\, 2640\, Australia
CATEGORIES:Albury,Workshop
ATTACH;FMTTYPE=image/jpeg:https://murrayphn.org.au/wp-content/uploads/2024/05/phn-event2-e1755578671654.jpg
ORGANIZER;CN="The Benchmarque Group":MAILTO:courses@benchmarquegroup.com.au
GEO:-36.08268;146.9164
X-APPLE-STRUCTURED-LOCATION;VALUE=URI;X-ADDRESS=Mantra Hotel Albury Southern Cross Room 524 Smollett Street Albury New South Wales 2640 Australia;X-APPLE-RADIUS=500;X-TITLE=Southern Cross Room\, 524 Smollett Street:geo:146.9164,-36.08268
END:VEVENT
BEGIN:VEVENT
DTSTART;TZID=Australia/Melbourne:20250305T084500
DTEND;TZID=Australia/Melbourne:20250305T163000
DTSTAMP:20260421T105538
CREATED:20250106T004903Z
LAST-MODIFIED:20250106T010751Z
UID:10000431-1741164300-1741192200@murrayphn.org.au
SUMMARY:Chronic conditions of the foot | Albury
DESCRIPTION:This workshop is being delivered by Benchmarque Group\, in collaboration with Murray PHN\, and will help to build a practical skillset for foot assessment that enables a healthcare practitioner to be competent and confident in chronic conditions of the foot basic care. \nThis workshop is suitable for Aboriginal and Torres Strait Islander health workers and practitioners\, allied health workers\, enrolled and registered nurses\, nurse practitioners\, GPs and practice managers. \nLearning outcomes: \n\nSafely perform a basic foot care assessment\nDetermine foot care requirements\nPrepare and use basic equipment and materials\nDocument foot\, skin and nail care according to organisational requirements\nMake appropriate referrals in a timely manner.\n\nThe course is supported by funding from the Australian Government Department of Health and Aged Care under the Chronic Disease Support Project. \nClick here to apply and enrol at no cost. \nClick here to download a flyer. \nEnquiries: Benchmarque Group\, e: courses@benchmarquegroup.com.au or t: 1300 855 568
URL:https://murrayphn.org.au/event/chronic-conditions-of-the-foot-albury/
LOCATION:Mantra Hotel Albury\, Southern Cross Room\, 524 Smollett Street\, Albury\, New South Wales\, 2640\, Australia
CATEGORIES:Albury,Workshop
ATTACH;FMTTYPE=image/jpeg:https://murrayphn.org.au/wp-content/uploads/2024/05/phn-event2-e1755578671654.jpg
ORGANIZER;CN="The Benchmarque Group":MAILTO:courses@benchmarquegroup.com.au
GEO:-36.08268;146.9164
X-APPLE-STRUCTURED-LOCATION;VALUE=URI;X-ADDRESS=Mantra Hotel Albury Southern Cross Room 524 Smollett Street Albury New South Wales 2640 Australia;X-APPLE-RADIUS=500;X-TITLE=Southern Cross Room\, 524 Smollett Street:geo:146.9164,-36.08268
END:VEVENT
BEGIN:VEVENT
DTSTART;TZID=Australia/Melbourne:20250220T181500
DTEND;TZID=Australia/Melbourne:20250220T210000
DTSTAMP:20260421T105538
CREATED:20250116T023443Z
LAST-MODIFIED:20250116T023443Z
UID:10000494-1740075300-1740085200@murrayphn.org.au
SUMMARY:GP/GP registrar initial assessment and referral training | Albury
DESCRIPTION:The Initial Assessment and Referral – Decision Support Tool (IAR-DST) is an initiative of the Department of Health and Aged Care. It supports clinicians in matching a person’s treatment needs with the right intensity of mental health support\, at the right time. \nThis workshop is for GP/GP registrars to learn how to use the IAR decision support tool to help people seeking mental health support. \nA $300 payment is available for eligible GPs who complete the two-hour training. This training is an approved CPD activity for RACGP/ACRRM members. \nClick here to register.
URL:https://murrayphn.org.au/event/p-gp-registrar-initial-assessment-and-referral-training-albury/
LOCATION:Mantra Hotel Albury\, Southern Cross Room\, 524 Smollett Street\, Albury\, New South Wales\, 2640\, Australia
CATEGORIES:Albury,Training
ORGANIZER;CN="Murray PHN":MAILTO:education@murrayphn.org.au
GEO:-36.08268;146.9164
X-APPLE-STRUCTURED-LOCATION;VALUE=URI;X-ADDRESS=Mantra Hotel Albury Southern Cross Room 524 Smollett Street Albury New South Wales 2640 Australia;X-APPLE-RADIUS=500;X-TITLE=Southern Cross Room\, 524 Smollett Street:geo:146.9164,-36.08268
END:VEVENT
BEGIN:VEVENT
DTSTART;TZID=Australia/Melbourne:20241128T180000
DTEND;TZID=Australia/Melbourne:20241128T203000
DTSTAMP:20260421T105538
CREATED:20241017T000728Z
LAST-MODIFIED:20241121T020635Z
UID:10000385-1732816800-1732825800@murrayphn.org.au
SUMMARY:Frailty - a multidisciplinary team approach | Albury
DESCRIPTION:GPs\, GP registrars\, allied health professionals\, practice nurses and managers\, nurse practitioners and Aboriginal Health Practitioners can attend this event\, which will feature a panel discussion and patient case study to highlight the important role of working as part of a multidisciplinary team to support patient care. \nThe following presenters will outline their management approaches for patients experiencing frailty\, including sarcopenia: \n\nJade Cartwright\, Chronic Health Nurse & Clinical Nurse Consult – Chronic Conditions\, Gateway Health\nDr Anu Tillekeratne\, General Practitioner\, Hospital Street Doctors\nDr Nick Sharrock\, Geriatrician\nShona Oxley\, GP Pharmacist\, North East Family Medicine\nRachel Melton\, Dietitian\, Gardens Medical Group\nChris Oats\, Physiotherapist\, Enhance Physio\nNicole MacDonald\, Practice Manager\, Federation Clinic\n\nClick here to register. \nClick here to download a flyer.
URL:https://murrayphn.org.au/event/frailty-a-multidisciplinary-team-approach-albury/
LOCATION:Best Western Plus Hovell Tree Inn Albury\, 614 Hovell Street\, Albury\, NSW\, 2640\, Australia
CATEGORIES:Albury,Meeting
ATTACH;FMTTYPE=image/jpeg:https://murrayphn.org.au/wp-content/uploads/2024/05/phn-event2-e1755578671654.jpg
ORGANIZER;CN="Murray PHN":MAILTO:education@murrayphn.org.au
GEO:-36.0862928;146.9096593
X-APPLE-STRUCTURED-LOCATION;VALUE=URI;X-ADDRESS=Best Western Plus Hovell Tree Inn Albury 614 Hovell Street Albury NSW 2640 Australia;X-APPLE-RADIUS=500;X-TITLE=614 Hovell Street:geo:146.9096593,-36.0862928
END:VEVENT
BEGIN:VEVENT
DTSTART;TZID=Australia/Melbourne:20240916T090000
DTEND;TZID=Australia/Melbourne:20240916T160000
DTSTAMP:20260421T105538
CREATED:20240715T055058Z
LAST-MODIFIED:20240718T003559Z
UID:10000286-1726477200-1726502400@murrayphn.org.au
SUMMARY:Motivational Interviewing Training | Albury
DESCRIPTION:Aboriginal health practitioners\, allied health professionals\, nurses and other primary healthcare professionals working in the Murray PHN catchment\, who would like to offer extended client support or brief interventions\, and increase their skills\, knowledge and confidence in their motivational interviewing approach can attend this training. \nLearning outcomes: \n\nDescribe the key skills and principles of motivational interviewing and its benefits\nEvaluate the client’s readiness\, willingness and motivation to change\nUse effective communication and practical strategies to encourage conversation with a client\nIdentify the client’s discrepancy between current and preferred behaviour through the decisional balance tool\nPrepare a plan with realistic goals with clients to help facilitate and motivate them towards change.\n\nPresenter:  \n\nStavroula Zandes\, Health & Wellbeing Training Consultants.\n\nStav has a background in psychology and counselling and worked with Quit Victoria and the Cancer Council Victoria for 20 years in a range of roles. From 2005 – 2012\, she was responsible for Quit’s statewide smoking cessation intervention training programs for health\, community\, workplace and education professionals. Stav is currently lecturing and tutoring at Monash University in the School of Public Health and Preventive Medicine. In 2013\, she founded Health & Wellbeing Training Consultants – a training and education business focusing on health and wellbeing\, and specialising in behaviour change and communication skills\, such as motivational interviewing. \nClick here to register. \nCheck in from 8.45am.\nEnquiries to education@murrayphn.org.au
URL:https://murrayphn.org.au/event/motivational-interviewing-training-albury/
LOCATION:Mantra Hotel Albury\, Southern Cross Room\, 524 Smollett Street\, Albury\, New South Wales\, 2640\, Australia
CATEGORIES:Albury,Training
ATTACH;FMTTYPE=image/jpeg:https://murrayphn.org.au/wp-content/uploads/2024/07/motivational-interviewing-training_web.jpg
ORGANIZER;CN="Murray PHN":MAILTO:education@murrayphn.org.au
GEO:-36.08268;146.9164
X-APPLE-STRUCTURED-LOCATION;VALUE=URI;X-ADDRESS=Mantra Hotel Albury Southern Cross Room 524 Smollett Street Albury New South Wales 2640 Australia;X-APPLE-RADIUS=500;X-TITLE=Southern Cross Room\, 524 Smollett Street:geo:146.9164,-36.08268
END:VEVENT
BEGIN:VEVENT
DTSTART;TZID=Australia/Melbourne:20240807T084500
DTEND;TZID=Australia/Melbourne:20240807T170000
DTSTAMP:20260421T105538
CREATED:20240723T231223Z
LAST-MODIFIED:20240724T040153Z
UID:10000284-1723020300-1723050000@murrayphn.org.au
SUMMARY:Suturing course | Albury
DESCRIPTION:This course provides the theoretical and practical essentials to close and management noncomplex traumatic lacerations\, biopsies and surgical incisions. \nThe course is ideally suited to nurses\, medical students and doctors that have little or no suturing experience or wish to enhance their current practice of only using single interrupted suturing technique. \nCourse structure: Comprehensive online learning package including video demonstrations of each technique and a one-day practical skills training workshop. \nSkills workshop techniques include single interrupted\, horizontal and verticle mattress\, subcuticular closure\, deep sutures\, skin flap closure and staples & tissue adhesives. \nClick here to learn more and register.
URL:https://murrayphn.org.au/event/suturing-course/
LOCATION:Commercial Club\, 618 Dean Street\, Albury\, New South Wales\, 2640\, Australia
CATEGORIES:Albury,Training
ATTACH;FMTTYPE=image/jpeg:https://murrayphn.org.au/wp-content/uploads/2024/05/event-external3.jpg
ORGANIZER;CN="Health Education Collaborative":MAILTO:info@healthec.com.au
GEO:-36.080469;146.9139083
X-APPLE-STRUCTURED-LOCATION;VALUE=URI;X-ADDRESS=Commercial Club 618 Dean Street Albury New South Wales 2640 Australia;X-APPLE-RADIUS=500;X-TITLE=618 Dean Street:geo:146.9139083,-36.080469
END:VEVENT
BEGIN:VEVENT
DTSTART;TZID=Australia/Melbourne:20240619T130000
DTEND;TZID=Australia/Melbourne:20240619T160000
DTSTAMP:20260421T105538
CREATED:20240514T050630Z
LAST-MODIFIED:20240527T234059Z
UID:10000200-1718802000-1718812800@murrayphn.org.au
SUMMARY:Enabling EDIE (Educational Dementia Immersive Experience) | Albury
DESCRIPTION:Staff in various care settings providing support to people living with dementia\, including GPs\, practice nurses\, Aboriginal health practitioners\, allied and other health professionals are invited to this workshop presented by Dementia Australia and funded by Murray PHN. \nEnabling EDIE (Educational Dementia Immersive Experience) is an immersive workshop that enables participants to see the world through the eyes of a person living with dementia. Using virtual reality technology\, this workshop enhances your knowledge of dementia while exploring strategies to support a person with dementia to live more confidently. \nClick here to download the flyer. \nClick here to register.
URL:https://murrayphn.org.au/event/enabling-edie-educational-dementia-immersive-experience-albury/
LOCATION:Mantra Hotel Albury\, Southern Cross Room\, 524 Smollett Street\, Albury\, New South Wales\, 2640\, Australia
CATEGORIES:Albury,Workshop
ATTACH;FMTTYPE=image/jpeg:https://murrayphn.org.au/wp-content/uploads/2024/05/phn-event2-e1755578671654.jpg
ORGANIZER;CN="Murray PHN":MAILTO:education@murrayphn.org.au
GEO:-36.08268;146.9164
X-APPLE-STRUCTURED-LOCATION;VALUE=URI;X-ADDRESS=Mantra Hotel Albury Southern Cross Room 524 Smollett Street Albury New South Wales 2640 Australia;X-APPLE-RADIUS=500;X-TITLE=Southern Cross Room\, 524 Smollett Street:geo:146.9164,-36.08268
END:VEVENT
END:VCALENDAR