BEGIN:VCALENDAR
VERSION:2.0
PRODID:-//Murray PHN - ECPv6.15.20//NONSGML v1.0//EN
CALSCALE:GREGORIAN
METHOD:PUBLISH
X-ORIGINAL-URL:https://murrayphn.org.au
X-WR-CALDESC:Events for Murray PHN
REFRESH-INTERVAL;VALUE=DURATION:PT1H
X-Robots-Tag:noindex
X-PUBLISHED-TTL:PT1H
BEGIN:VTIMEZONE
TZID:Australia/Melbourne
BEGIN:STANDARD
TZOFFSETFROM:+1100
TZOFFSETTO:+1000
TZNAME:AEST
DTSTART:20250405T160000
END:STANDARD
BEGIN:DAYLIGHT
TZOFFSETFROM:+1000
TZOFFSETTO:+1100
TZNAME:AEDT
DTSTART:20251004T160000
END:DAYLIGHT
BEGIN:STANDARD
TZOFFSETFROM:+1100
TZOFFSETTO:+1000
TZNAME:AEST
DTSTART:20260404T160000
END:STANDARD
BEGIN:DAYLIGHT
TZOFFSETFROM:+1000
TZOFFSETTO:+1100
TZNAME:AEDT
DTSTART:20261003T160000
END:DAYLIGHT
BEGIN:STANDARD
TZOFFSETFROM:+1100
TZOFFSETTO:+1000
TZNAME:AEST
DTSTART:20270403T160000
END:STANDARD
BEGIN:DAYLIGHT
TZOFFSETFROM:+1000
TZOFFSETTO:+1100
TZNAME:AEDT
DTSTART:20271002T160000
END:DAYLIGHT
END:VTIMEZONE
BEGIN:VEVENT
DTSTART;TZID=Australia/Melbourne:20260521T183000
DTEND;TZID=Australia/Melbourne:20260521T200000
DTSTAMP:20260425T111052
CREATED:20260422T004215Z
LAST-MODIFIED:20260422T004215Z
UID:10003020-1779388200-1779393600@murrayphn.org.au
SUMMARY:ADHD in adults: Managing pharmacotherapy in general practice | Mildura
DESCRIPTION:GPs\, GP registrars are invited to attend this event to learn a practical framework for initiating and managing stimulants and non-stimulants. \nDr Emilie Staehr\, GP\, Program and Development Manager from May Medical will discuss reframing ADHD treatment\, the treatment pillars and provide a pharmacotherapy overview including troubleshooting and optimisation. \nClick here to learn more and register.
URL:https://murrayphn.org.au/event/adhd-in-adults-managing-pharmacotherapy-in-general-practice-mildura/
LOCATION:Botanica Restaurant\, 413 Deakin Avenue\, Mildura\, VIC\, 3500\, Australia
CATEGORIES:Mildura,Workshop
ATTACH;FMTTYPE=image/jpeg:https://murrayphn.org.au/wp-content/uploads/2025/10/EB_generic_CPD_HP-1.jpg
ORGANIZER;CN="Murray PHN":MAILTO:education@murrayphn.org.au
GEO:-34.2037748;142.1391626
X-APPLE-STRUCTURED-LOCATION;VALUE=URI;X-ADDRESS=Botanica Restaurant 413 Deakin Avenue Mildura VIC 3500 Australia;X-APPLE-RADIUS=500;X-TITLE=413 Deakin Avenue:geo:142.1391626,-34.2037748
END:VEVENT
END:VCALENDAR