BEGIN:VCALENDAR
VERSION:2.0
PRODID:-//Murray PHN - ECPv6.15.20//NONSGML v1.0//EN
CALSCALE:GREGORIAN
METHOD:PUBLISH
X-ORIGINAL-URL:https://murrayphn.org.au
X-WR-CALDESC:Events for Murray PHN
REFRESH-INTERVAL;VALUE=DURATION:PT1H
X-Robots-Tag:noindex
X-PUBLISHED-TTL:PT1H
BEGIN:VTIMEZONE
TZID:Australia/Melbourne
BEGIN:STANDARD
TZOFFSETFROM:+1100
TZOFFSETTO:+1000
TZNAME:AEST
DTSTART:20250405T160000
END:STANDARD
BEGIN:DAYLIGHT
TZOFFSETFROM:+1000
TZOFFSETTO:+1100
TZNAME:AEDT
DTSTART:20251004T160000
END:DAYLIGHT
BEGIN:STANDARD
TZOFFSETFROM:+1100
TZOFFSETTO:+1000
TZNAME:AEST
DTSTART:20260404T160000
END:STANDARD
BEGIN:DAYLIGHT
TZOFFSETFROM:+1000
TZOFFSETTO:+1100
TZNAME:AEDT
DTSTART:20261003T160000
END:DAYLIGHT
BEGIN:STANDARD
TZOFFSETFROM:+1100
TZOFFSETTO:+1000
TZNAME:AEST
DTSTART:20270403T160000
END:STANDARD
BEGIN:DAYLIGHT
TZOFFSETFROM:+1000
TZOFFSETTO:+1100
TZNAME:AEDT
DTSTART:20271002T160000
END:DAYLIGHT
END:VTIMEZONE
BEGIN:VEVENT
DTSTART;VALUE=DATE:20260217
DTEND;VALUE=DATE:20260219
DTSTAMP:20260424T214002
CREATED:20260105T230128Z
LAST-MODIFIED:20260204T232023Z
UID:10002849-1771286400-1771459199@murrayphn.org.au
SUMMARY:Applied suicide intervention skills training (ASIST) | Echuca (Wait list only)
DESCRIPTION:ASIST is a two-day interactive workshop in suicide first aid. It teaches participants to recognise when someone may be at risk of suicide and work with them to create a plan that will support their immediate safety. ASIST is accredited by Suicide Prevention Australia and is widely used by healthcare providers. Suitable for all clinical and non-clinical staff. \nThis event is currently full. \nClick here to join the wait list.
URL:https://murrayphn.org.au/event/applied-suicide-intervention-skills-training-asist-echuca/
LOCATION:Mecure Port of Echuca\, 465 High Street\, Echuca\, Victoria\, 3564\, Australia
CATEGORIES:Echuca,Training,Workshop
ATTACH;FMTTYPE=image/jpeg:https://murrayphn.org.au/wp-content/uploads/2026/01/ASIST.jpg
ORGANIZER;CN="Murray PHN":MAILTO:education@murrayphn.org.au
GEO:-36.1257353;144.7470822
X-APPLE-STRUCTURED-LOCATION;VALUE=URI;X-ADDRESS=Mecure Port of Echuca 465 High Street Echuca Victoria 3564 Australia;X-APPLE-RADIUS=500;X-TITLE=465 High Street:geo:144.7470822,-36.1257353
END:VEVENT
END:VCALENDAR