BEGIN:VCALENDAR
VERSION:2.0
PRODID:-//Murray PHN - ECPv6.15.20//NONSGML v1.0//EN
CALSCALE:GREGORIAN
METHOD:PUBLISH
X-WR-CALNAME:Murray PHN
X-ORIGINAL-URL:https://murrayphn.org.au
X-WR-CALDESC:Events for Murray PHN
REFRESH-INTERVAL;VALUE=DURATION:PT1H
X-Robots-Tag:noindex
X-PUBLISHED-TTL:PT1H
BEGIN:VTIMEZONE
TZID:Australia/Melbourne
BEGIN:STANDARD
TZOFFSETFROM:+1100
TZOFFSETTO:+1000
TZNAME:AEST
DTSTART:20230401T160000
END:STANDARD
BEGIN:DAYLIGHT
TZOFFSETFROM:+1000
TZOFFSETTO:+1100
TZNAME:AEDT
DTSTART:20230930T160000
END:DAYLIGHT
BEGIN:STANDARD
TZOFFSETFROM:+1100
TZOFFSETTO:+1000
TZNAME:AEST
DTSTART:20240406T160000
END:STANDARD
BEGIN:DAYLIGHT
TZOFFSETFROM:+1000
TZOFFSETTO:+1100
TZNAME:AEDT
DTSTART:20241005T160000
END:DAYLIGHT
BEGIN:STANDARD
TZOFFSETFROM:+1100
TZOFFSETTO:+1000
TZNAME:AEST
DTSTART:20250405T160000
END:STANDARD
BEGIN:DAYLIGHT
TZOFFSETFROM:+1000
TZOFFSETTO:+1100
TZNAME:AEDT
DTSTART:20251004T160000
END:DAYLIGHT
BEGIN:STANDARD
TZOFFSETFROM:+1100
TZOFFSETTO:+1000
TZNAME:AEST
DTSTART:20260404T160000
END:STANDARD
BEGIN:DAYLIGHT
TZOFFSETFROM:+1000
TZOFFSETTO:+1100
TZNAME:AEDT
DTSTART:20261003T160000
END:DAYLIGHT
END:VTIMEZONE
BEGIN:VEVENT
DTSTART;TZID=Australia/Melbourne:20251119T173000
DTEND;TZID=Australia/Melbourne:20251119T193000
DTSTAMP:20260422T081039
CREATED:20251006T050201Z
LAST-MODIFIED:20251006T050201Z
UID:10002784-1763573400-1763580600@murrayphn.org.au
SUMMARY:General Practice Network Meeting | Kyneton
DESCRIPTION:Murray PHN invites all general practice staff to attend our General Practice Network Meeting. Join Bridget Parris\, Clinical Lead from Mostyn Street Clinic present about managing chronic pain patients and Seffi Ceballos\, Practice Nurse from Larter Consulting lead a Q&A. Dinner will be provided. \nClick here to learn more and register
URL:https://murrayphn.org.au/event/general-practice-network-meeting-kyneton/
LOCATION:Sunbury and Cobaw Community Health\, 1 Caroline Chisholm Drive\, Kyneton\, Victoria\, 3444\, Australia
CATEGORIES:Kyneton,Meeting,Networking
ATTACH;FMTTYPE=image/jpeg:https://murrayphn.org.au/wp-content/uploads/2025/08/phn-event-GPNETWK-MEETING.jpg
ORGANIZER;CN="Murray PHN":MAILTO:education@murrayphn.org.au
END:VEVENT
BEGIN:VEVENT
DTSTART;TZID=Australia/Melbourne:20240606T181500
DTEND;TZID=Australia/Melbourne:20240606T200000
DTSTAMP:20260422T081039
CREATED:20240514T042712Z
LAST-MODIFIED:20240527T224706Z
UID:10000195-1717697700-1717704000@murrayphn.org.au
SUMMARY:Oncology education evening | Kyneton
DESCRIPTION:To improve partnerships between local health services and the care of newly diagnosed cancer patients\, including the management of treatment side-effects\, GPs and practice nurses are invited to join Bendigo Health’s Oncology Outreach team for an interactive and informative evening. \nSpeakers: \n\nDr Sam Harris and Dr Gordon Ratcliff\, Medical Oncologists\nJames Cozens\, Nurse Practitioner\, Oncology\n\nClick here for a flyer \nClick here to register
URL:https://murrayphn.org.au/event/oncology-education-evening-kyneton/
LOCATION:Ambulatory Care Centre\, Kyneton Hospital\, 7-25 Caroline Chisholm Drive\, Kyneton\, Vic\, 3444\, Australia
CATEGORIES:Kyneton,Meeting,Networking
ATTACH;FMTTYPE=image/jpeg:https://murrayphn.org.au/wp-content/uploads/2024/05/oncology-event.jpg
ORGANIZER;CN="Murray PHN":MAILTO:education@murrayphn.org.au
GEO:-37.255181;144.469941
X-APPLE-STRUCTURED-LOCATION;VALUE=URI;X-ADDRESS=Ambulatory Care Centre Kyneton Hospital 7-25 Caroline Chisholm Drive Kyneton Vic 3444 Australia;X-APPLE-RADIUS=500;X-TITLE=7-25 Caroline Chisholm Drive:geo:144.469941,-37.255181
END:VEVENT
END:VCALENDAR