BEGIN:VCALENDAR
VERSION:2.0
PRODID:-//Murray PHN - ECPv6.15.20//NONSGML v1.0//EN
CALSCALE:GREGORIAN
METHOD:PUBLISH
X-ORIGINAL-URL:https://murrayphn.org.au
X-WR-CALDESC:Events for Murray PHN
REFRESH-INTERVAL;VALUE=DURATION:PT1H
X-Robots-Tag:noindex
X-PUBLISHED-TTL:PT1H
BEGIN:VTIMEZONE
TZID:Australia/Melbourne
BEGIN:STANDARD
TZOFFSETFROM:+1100
TZOFFSETTO:+1000
TZNAME:AEST
DTSTART:20250405T160000
END:STANDARD
BEGIN:DAYLIGHT
TZOFFSETFROM:+1000
TZOFFSETTO:+1100
TZNAME:AEDT
DTSTART:20251004T160000
END:DAYLIGHT
BEGIN:STANDARD
TZOFFSETFROM:+1100
TZOFFSETTO:+1000
TZNAME:AEST
DTSTART:20260404T160000
END:STANDARD
BEGIN:DAYLIGHT
TZOFFSETFROM:+1000
TZOFFSETTO:+1100
TZNAME:AEDT
DTSTART:20261003T160000
END:DAYLIGHT
BEGIN:STANDARD
TZOFFSETFROM:+1100
TZOFFSETTO:+1000
TZNAME:AEST
DTSTART:20270403T160000
END:STANDARD
BEGIN:DAYLIGHT
TZOFFSETFROM:+1000
TZOFFSETTO:+1100
TZNAME:AEDT
DTSTART:20271002T160000
END:DAYLIGHT
END:VTIMEZONE
BEGIN:VEVENT
DTSTART;TZID=Australia/Melbourne:20260630T180000
DTEND;TZID=Australia/Melbourne:20260630T203000
DTSTAMP:20260421T133103
CREATED:20260420T013825Z
LAST-MODIFIED:20260420T014012Z
UID:10003015-1782842400-1782851400@murrayphn.org.au
SUMMARY:Hope for the best\, plan for the rest online workshop | Yackandandah
DESCRIPTION:This workshop is designed to empower individuals and their families who are facing a life-changing illness by helping them navigate care with confidence. \nClick here to learn more and register.
URL:https://murrayphn.org.au/event/hope-for-the-best-plan-for-the-rest-workshop-yackandandah/
LOCATION:Webinar
CATEGORIES:Community,Webinar,Workshop,Yackandandah
ATTACH;FMTTYPE=image/png:https://murrayphn.org.au/wp-content/uploads/2026/04/Good2go-workshop-website-banner.png
ORGANIZER;CN="The Good2Go collective":MAILTO:g2gcollective@gmail.com
END:VEVENT
END:VCALENDAR