BEGIN:VCALENDAR
VERSION:2.0
PRODID:-//Murray PHN - ECPv6.15.20//NONSGML v1.0//EN
CALSCALE:GREGORIAN
METHOD:PUBLISH
X-WR-CALNAME:Murray PHN
X-ORIGINAL-URL:https://murrayphn.org.au
X-WR-CALDESC:Events for Murray PHN
REFRESH-INTERVAL;VALUE=DURATION:PT1H
X-Robots-Tag:noindex
X-PUBLISHED-TTL:PT1H
BEGIN:VTIMEZONE
TZID:Australia/Melbourne
BEGIN:STANDARD
TZOFFSETFROM:+1100
TZOFFSETTO:+1000
TZNAME:AEST
DTSTART:20240406T160000
END:STANDARD
BEGIN:DAYLIGHT
TZOFFSETFROM:+1000
TZOFFSETTO:+1100
TZNAME:AEDT
DTSTART:20241005T160000
END:DAYLIGHT
BEGIN:STANDARD
TZOFFSETFROM:+1100
TZOFFSETTO:+1000
TZNAME:AEST
DTSTART:20250405T160000
END:STANDARD
BEGIN:DAYLIGHT
TZOFFSETFROM:+1000
TZOFFSETTO:+1100
TZNAME:AEDT
DTSTART:20251004T160000
END:DAYLIGHT
BEGIN:STANDARD
TZOFFSETFROM:+1100
TZOFFSETTO:+1000
TZNAME:AEST
DTSTART:20260404T160000
END:STANDARD
BEGIN:DAYLIGHT
TZOFFSETFROM:+1000
TZOFFSETTO:+1100
TZNAME:AEDT
DTSTART:20261003T160000
END:DAYLIGHT
END:VTIMEZONE
BEGIN:VEVENT
DTSTART;TZID=Australia/Melbourne:20251203T100000
DTEND;TZID=Australia/Melbourne:20251203T160000
DTSTAMP:20260421T051334
CREATED:20251027T222934Z
LAST-MODIFIED:20251027T223026Z
UID:10002804-1764756000-1764777600@murrayphn.org.au
SUMMARY:Mental health in residential aged care: Holistic care and alternative therapies | Shepparton
DESCRIPTION:This community of practice event is for primary mental health service providers and clinicians providing services into residential aged care homes and to residential aged care staff. \nAttendees can hear from those working in the field to explore how basic concepts and foundations can be applied in everyday practice for: \n\nArt therapy – presented by Maggie Wells\, Art Therapist at Echuca Regional Health\nMusic therapy – presented by Catherine Threlfall\, Music Therapist\nVirtual reality therapy – presented by Shane Roulston\, founder of NeuronsVR\nSpiritual care – presented by Rachel Wass\, CEO of Meaningful Ageing Australia.\n\nClick here for a flyer. \nClick here to register.
URL:https://murrayphn.org.au/event/holistic-care-and-alternative-therapies-shepparton/
LOCATION:Quality Hotel Parklake\, 481 Wyndham Street\, Shepparton\, VIC\, 3630\, Australia
CATEGORIES:Forum,Shepparton
ATTACH;FMTTYPE=image/jpeg:https://murrayphn.org.au/wp-content/uploads/2025/03/phn-event_COP-1.jpg
ORGANIZER;CN="Murray PHN":MAILTO:education@murrayphn.org.au
GEO:-36.3870619;145.3984608
X-APPLE-STRUCTURED-LOCATION;VALUE=URI;X-ADDRESS=Quality Hotel Parklake 481 Wyndham Street Shepparton VIC 3630 Australia;X-APPLE-RADIUS=500;X-TITLE=481 Wyndham Street:geo:145.3984608,-36.3870619
END:VEVENT
BEGIN:VEVENT
DTSTART;TZID=Australia/Melbourne:20251204T183000
DTEND;TZID=Australia/Melbourne:20251204T203000
DTSTAMP:20260421T051334
CREATED:20251006T224129Z
LAST-MODIFIED:20251126T001453Z
UID:10002785-1764873000-1764880200@murrayphn.org.au
SUMMARY:Osteoarthritis of the knee - diagnosis to arthroplasty | Shepparton (CANCELLED)
DESCRIPTION:GPs and GP registrars are invited join your colleagues for an evening of education and networking. Hear from Alasdair Thomas\, Orthopaedic surgeon at Shepparton Orthopaedics on the management of osteoarthritis of the knee from diagnosis to arthroplasty. \nPlease note that this event has been cancelled. \n 
URL:https://murrayphn.org.au/event/osteoarthritis-of-the-knee-diagnosis-to-arthroplasty-shepparton/
LOCATION:Quality Hotel Parklake\, 481 Wyndham Street\, Shepparton\, VIC\, 3630\, Australia
CATEGORIES:Meeting,Networking,Shepparton
ATTACH;FMTTYPE=image/jpeg:https://murrayphn.org.au/wp-content/uploads/2025/09/CPD-event-CoP-for-GPs-and-GP-registrars.jpg
ORGANIZER;CN="Murray PHN":MAILTO:education@murrayphn.org.au
GEO:-36.3870619;145.3984608
X-APPLE-STRUCTURED-LOCATION;VALUE=URI;X-ADDRESS=Quality Hotel Parklake 481 Wyndham Street Shepparton VIC 3630 Australia;X-APPLE-RADIUS=500;X-TITLE=481 Wyndham Street:geo:145.3984608,-36.3870619
END:VEVENT
BEGIN:VEVENT
DTSTART;TZID=Australia/Melbourne:20251209T073000
DTEND;TZID=Australia/Melbourne:20251209T163000
DTSTAMP:20260421T051334
CREATED:20251105T013648Z
LAST-MODIFIED:20251105T013753Z
UID:10002809-1765265400-1765297800@murrayphn.org.au
SUMMARY:GV Health Parkinson's Conference 2025 | Shepparton
DESCRIPTION:Dr Arup Bhattacharya and the Goulburn Valley Movement Disorder Service are hosting the annual parkinson’s conference for health professionals\, students\, people living with parkinson’s disease and their carers. \nMultiple presenters will deliver sessions covering exercise\, treatment and management to help people live well\, with time for questions. Morning tea\, lunch and afternoon tea will also be provided. \nClick here for a flyer. \nClick here to register. \n  \n 
URL:https://murrayphn.org.au/event/parkinsons-disease-a-holistic-overview-shepparton-2/
LOCATION:GV Hotel\, 233 High Street\, Shepparton\, VIC\, 3630\, Australia
CATEGORIES:External event,Shepparton
ATTACH;FMTTYPE=image/jpeg:https://murrayphn.org.au/wp-content/uploads/2024/05/event-external3.jpg
GEO:-36.3819983;145.4054646
X-APPLE-STRUCTURED-LOCATION;VALUE=URI;X-ADDRESS=GV Hotel 233 High Street Shepparton VIC 3630 Australia;X-APPLE-RADIUS=500;X-TITLE=233 High Street:geo:145.4054646,-36.3819983
END:VEVENT
END:VCALENDAR