BEGIN:VCALENDAR
VERSION:2.0
PRODID:-//Murray PHN - ECPv6.15.20//NONSGML v1.0//EN
CALSCALE:GREGORIAN
METHOD:PUBLISH
X-ORIGINAL-URL:https://murrayphn.org.au
X-WR-CALDESC:Events for Murray PHN
REFRESH-INTERVAL;VALUE=DURATION:PT1H
X-Robots-Tag:noindex
X-PUBLISHED-TTL:PT1H
BEGIN:VTIMEZONE
TZID:Australia/Melbourne
BEGIN:STANDARD
TZOFFSETFROM:+1100
TZOFFSETTO:+1000
TZNAME:AEST
DTSTART:20240406T160000
END:STANDARD
BEGIN:DAYLIGHT
TZOFFSETFROM:+1000
TZOFFSETTO:+1100
TZNAME:AEDT
DTSTART:20241005T160000
END:DAYLIGHT
BEGIN:STANDARD
TZOFFSETFROM:+1100
TZOFFSETTO:+1000
TZNAME:AEST
DTSTART:20250405T160000
END:STANDARD
BEGIN:DAYLIGHT
TZOFFSETFROM:+1000
TZOFFSETTO:+1100
TZNAME:AEDT
DTSTART:20251004T160000
END:DAYLIGHT
BEGIN:STANDARD
TZOFFSETFROM:+1100
TZOFFSETTO:+1000
TZNAME:AEST
DTSTART:20260404T160000
END:STANDARD
BEGIN:DAYLIGHT
TZOFFSETFROM:+1000
TZOFFSETTO:+1100
TZNAME:AEDT
DTSTART:20261003T160000
END:DAYLIGHT
END:VTIMEZONE
BEGIN:VEVENT
DTSTART;TZID=Australia/Melbourne:20251126T150000
DTEND;TZID=Australia/Melbourne:20251126T170000
DTSTAMP:20260421T105336
CREATED:20251007T222146Z
LAST-MODIFIED:20251007T222146Z
UID:10002787-1764169200-1764176400@murrayphn.org.au
SUMMARY:General practice network meeting | Shepparton
DESCRIPTION:General practice staff are invited to attend this meeting to network with peers\, receive industry updates and discuss quality improvement learnings with our GP support team. The meeting will include a presentation from practice nurse Steffi Ceballos from Larter Consulting on nursing workflows around GPCCMPs and health assessments. \nClick here to learn more and register.
URL:https://murrayphn.org.au/event/general-practice-network-meeting-kyneton-2/
LOCATION:Thr University of Melbourne\, Shepparton Campus\, 49 Graham Street\, Shepparton\, Victoria\, 3630\, Australia
CATEGORIES:Meeting,Networking,Shepparton
ATTACH;FMTTYPE=image/jpeg:https://murrayphn.org.au/wp-content/uploads/2025/08/phn-event-GPNETWK-MEETING.jpg
END:VEVENT
END:VCALENDAR