BEGIN:VCALENDAR
VERSION:2.0
PRODID:-//Murray PHN - ECPv6.15.20//NONSGML v1.0//EN
CALSCALE:GREGORIAN
METHOD:PUBLISH
X-WR-CALNAME:Murray PHN
X-ORIGINAL-URL:https://murrayphn.org.au
X-WR-CALDESC:Events for Murray PHN
REFRESH-INTERVAL;VALUE=DURATION:PT1H
X-Robots-Tag:noindex
X-PUBLISHED-TTL:PT1H
BEGIN:VTIMEZONE
TZID:Australia/Melbourne
BEGIN:STANDARD
TZOFFSETFROM:+1100
TZOFFSETTO:+1000
TZNAME:AEST
DTSTART:20240406T160000
END:STANDARD
BEGIN:DAYLIGHT
TZOFFSETFROM:+1000
TZOFFSETTO:+1100
TZNAME:AEDT
DTSTART:20241005T160000
END:DAYLIGHT
BEGIN:STANDARD
TZOFFSETFROM:+1100
TZOFFSETTO:+1000
TZNAME:AEST
DTSTART:20250405T160000
END:STANDARD
BEGIN:DAYLIGHT
TZOFFSETFROM:+1000
TZOFFSETTO:+1100
TZNAME:AEDT
DTSTART:20251004T160000
END:DAYLIGHT
BEGIN:STANDARD
TZOFFSETFROM:+1100
TZOFFSETTO:+1000
TZNAME:AEST
DTSTART:20260404T160000
END:STANDARD
BEGIN:DAYLIGHT
TZOFFSETFROM:+1000
TZOFFSETTO:+1100
TZNAME:AEDT
DTSTART:20261003T160000
END:DAYLIGHT
END:VTIMEZONE
BEGIN:VEVENT
DTSTART;TZID=Australia/Melbourne:20251204T183000
DTEND;TZID=Australia/Melbourne:20251204T203000
DTSTAMP:20260421T090121
CREATED:20251006T224129Z
LAST-MODIFIED:20251126T001453Z
UID:10002785-1764873000-1764880200@murrayphn.org.au
SUMMARY:Osteoarthritis of the knee - diagnosis to arthroplasty | Shepparton (CANCELLED)
DESCRIPTION:GPs and GP registrars are invited join your colleagues for an evening of education and networking. Hear from Alasdair Thomas\, Orthopaedic surgeon at Shepparton Orthopaedics on the management of osteoarthritis of the knee from diagnosis to arthroplasty. \nPlease note that this event has been cancelled. \n 
URL:https://murrayphn.org.au/event/osteoarthritis-of-the-knee-diagnosis-to-arthroplasty-shepparton/
LOCATION:Quality Hotel Parklake\, 481 Wyndham Street\, Shepparton\, VIC\, 3630\, Australia
CATEGORIES:Meeting,Networking,Shepparton
ATTACH;FMTTYPE=image/jpeg:https://murrayphn.org.au/wp-content/uploads/2025/09/CPD-event-CoP-for-GPs-and-GP-registrars.jpg
ORGANIZER;CN="Murray PHN":MAILTO:education@murrayphn.org.au
GEO:-36.3870619;145.3984608
X-APPLE-STRUCTURED-LOCATION;VALUE=URI;X-ADDRESS=Quality Hotel Parklake 481 Wyndham Street Shepparton VIC 3630 Australia;X-APPLE-RADIUS=500;X-TITLE=481 Wyndham Street:geo:145.3984608,-36.3870619
END:VEVENT
END:VCALENDAR