BEGIN:VCALENDAR
VERSION:2.0
PRODID:-//Murray PHN - ECPv6.15.20//NONSGML v1.0//EN
CALSCALE:GREGORIAN
METHOD:PUBLISH
X-WR-CALNAME:Murray PHN
X-ORIGINAL-URL:https://murrayphn.org.au
X-WR-CALDESC:Events for Murray PHN
REFRESH-INTERVAL;VALUE=DURATION:PT1H
X-Robots-Tag:noindex
X-PUBLISHED-TTL:PT1H
BEGIN:VTIMEZONE
TZID:Australia/Melbourne
BEGIN:STANDARD
TZOFFSETFROM:+1100
TZOFFSETTO:+1000
TZNAME:AEST
DTSTART:20250405T160000
END:STANDARD
BEGIN:DAYLIGHT
TZOFFSETFROM:+1000
TZOFFSETTO:+1100
TZNAME:AEDT
DTSTART:20251004T160000
END:DAYLIGHT
BEGIN:STANDARD
TZOFFSETFROM:+1100
TZOFFSETTO:+1000
TZNAME:AEST
DTSTART:20260404T160000
END:STANDARD
BEGIN:DAYLIGHT
TZOFFSETFROM:+1000
TZOFFSETTO:+1100
TZNAME:AEDT
DTSTART:20261003T160000
END:DAYLIGHT
BEGIN:STANDARD
TZOFFSETFROM:+1100
TZOFFSETTO:+1000
TZNAME:AEST
DTSTART:20270403T160000
END:STANDARD
BEGIN:DAYLIGHT
TZOFFSETFROM:+1000
TZOFFSETTO:+1100
TZNAME:AEDT
DTSTART:20271002T160000
END:DAYLIGHT
END:VTIMEZONE
BEGIN:VEVENT
DTSTART;TZID=Australia/Melbourne:20260303T180000
DTEND;TZID=Australia/Melbourne:20260303T204500
DTSTAMP:20260422T011846
CREATED:20260210T032233Z
LAST-MODIFIED:20260210T032233Z
UID:10002880-1772560800-1772570700@murrayphn.org.au
SUMMARY:Rhythms\, rates and risks - cardiology insights 2026 | Bendigo
DESCRIPTION:Hosted by St John of God Hospital Bendigo \nThis session features our cardiologists sharing practical insights on heart failure\, arrhythmias\, interpretation of investigations and early management of common cardiac presentations. \nLearn about direct access to the SJGBH Cardiac Assessment Unit and on-call cardiologist support\, giving you clearer pathways and the knowledge to deliver more confident\, effective care for your patients. \nTarget audience: GPs \nClick here for more information and to register
URL:https://murrayphn.org.au/event/rhythms-rates-and-risks-cardiology-insights-2026-bendigo/
LOCATION:Quality Hotel Lakeside\, 286 Napier Street\, Bendigo\, VIC\, 3550\, Australia
CATEGORIES:Bendigo,External event,Seminar
ATTACH;FMTTYPE=image/jpeg:https://murrayphn.org.au/wp-content/uploads/2024/05/event-external4.jpg
ORGANIZER;CN="St John of God Hospital Bendigo":MAILTO:info.bendigo@sjog.org.au
END:VEVENT
BEGIN:VEVENT
DTSTART;TZID=Australia/Melbourne:20260325T110000
DTEND;TZID=Australia/Melbourne:20260325T140000
DTSTAMP:20260422T011846
CREATED:20260217T044630Z
LAST-MODIFIED:20260217T044630Z
UID:10002889-1774436400-1774447200@murrayphn.org.au
SUMMARY:Cross-cultural interactive workshop in sexual and reproductive health | Shepparton
DESCRIPTION:Hosted by CERSH \nExplore how to provide culturally safe and inclusive sexual and reproductive health support for Culturally and Linguistically Diverse Communities (CALD). \nFollowing on from the success of the North-west Roadshow\, the Centre for Excellence in Rural Sexual Health (CERSH) in partnership with Multicultural Health and Support Services (MHSS) will be delivering an interactive sexual and reproductive health workforce training designed for professionals supporting people from CALD backgrounds. \nThis training will build your knowledge and skills in sexual and reproductive health (SRH)\, helping you:\n– Build confidence in discussing SRH topics with CALD communities\n– Provide appropriate referrals for clients or students\n– Support access to local SRH services \nTarget audience: Teachers\, youth workers\, health promotion officers or anyone who works with CALD communities and wants to learn more. \nClick here for more information and to register
URL:https://murrayphn.org.au/event/cross-cultural-interactive-workshop-in-sexual-and-reproductive-health-shepparton/
LOCATION:Primary Care Connect\, 399 Wyndham Street\, Shepparton\, Victoria\, 3630\, Australia
CATEGORIES:External event,Shepparton,Workshop
ATTACH;FMTTYPE=image/jpeg:https://murrayphn.org.au/wp-content/uploads/2024/05/event-external3.jpg
GEO:-36.3825901;145.3992757
X-APPLE-STRUCTURED-LOCATION;VALUE=URI;X-ADDRESS=Primary Care Connect 399 Wyndham Street Shepparton Victoria 3630 Australia;X-APPLE-RADIUS=500;X-TITLE=399 Wyndham Street:geo:145.3992757,-36.3825901
END:VEVENT
END:VCALENDAR