BEGIN:VCALENDAR
VERSION:2.0
PRODID:-//Murray PHN - ECPv6.15.20//NONSGML v1.0//EN
CALSCALE:GREGORIAN
METHOD:PUBLISH
X-ORIGINAL-URL:https://murrayphn.org.au
X-WR-CALDESC:Events for Murray PHN
REFRESH-INTERVAL;VALUE=DURATION:PT1H
X-Robots-Tag:noindex
X-PUBLISHED-TTL:PT1H
BEGIN:VTIMEZONE
TZID:Australia/Melbourne
BEGIN:STANDARD
TZOFFSETFROM:+1100
TZOFFSETTO:+1000
TZNAME:AEST
DTSTART:20250405T160000
END:STANDARD
BEGIN:DAYLIGHT
TZOFFSETFROM:+1000
TZOFFSETTO:+1100
TZNAME:AEDT
DTSTART:20251004T160000
END:DAYLIGHT
BEGIN:STANDARD
TZOFFSETFROM:+1100
TZOFFSETTO:+1000
TZNAME:AEST
DTSTART:20260404T160000
END:STANDARD
BEGIN:DAYLIGHT
TZOFFSETFROM:+1000
TZOFFSETTO:+1100
TZNAME:AEDT
DTSTART:20261003T160000
END:DAYLIGHT
BEGIN:STANDARD
TZOFFSETFROM:+1100
TZOFFSETTO:+1000
TZNAME:AEST
DTSTART:20270403T160000
END:STANDARD
BEGIN:DAYLIGHT
TZOFFSETFROM:+1000
TZOFFSETTO:+1100
TZNAME:AEDT
DTSTART:20271002T160000
END:DAYLIGHT
END:VTIMEZONE
BEGIN:VEVENT
DTSTART;TZID=Australia/Melbourne:20260514T173000
DTEND;TZID=Australia/Melbourne:20260514T183000
DTSTAMP:20260424T104151
CREATED:20260303T050346Z
LAST-MODIFIED:20260303T050346Z
UID:10002896-1778779800-1778783400@murrayphn.org.au
SUMMARY:Photoprotection in the high-risk patient and navigating UV science | Online
DESCRIPTION:Hosted by the Melanoma Institute Australia \nDon’t miss this rare opportunity to hear from one of the world’s foremost authorities on photoprotection. This evidence-based educational session is designed for multidisciplinary healthcare professionals caring for patients at increased risk of skin cancer and ultraviolet (UV) damage. \nChaired by MIA’s Prof Pascale Guitera\, and featuring special guest Prof Henry Lim\, a global leader in photoprotection\, this session combines world-class expertise with clinically relevant insights. Prof Lim will discuss the latest science of UV radiation\, practical photoprotection strategies for high-risk populations and emerging research shaping photoprotection guidance.\nFollowing the presentation\, attendees will have the opportunity to engage directly with Prof Lim to discuss key questions and practical considerations in photoprotection. \nTarget audience: Skin cancer GPs\, skin specialists\, cancer specialists \nClick here for more information and to register
URL:https://murrayphn.org.au/event/photoprotection-in-the-high-risk-patient-and-navigating-uv-science-online/
CATEGORIES:Webinar
ATTACH;FMTTYPE=image/jpeg:https://murrayphn.org.au/wp-content/uploads/2024/05/event-external.jpg
ORGANIZER;CN="Melanoma Institute Australia":MAILTO:Education@melanoma.org.au
END:VEVENT
BEGIN:VEVENT
DTSTART;TZID=Australia/Melbourne:20260519T123000
DTEND;TZID=Australia/Melbourne:20260519T133000
DTSTAMP:20260424T104151
CREATED:20260311T004940Z
LAST-MODIFIED:20260311T004940Z
UID:10002973-1779193800-1779197400@murrayphn.org.au
SUMMARY:Addressing rising rates of congenital syphilis | Online
DESCRIPTION:Hosted by the Centre for Excellence in Rural Sexual Health \nJoin us for an engaging session on rising rates of congenital syphilis with Dr Stephanie Bond. \nDr Stephanie Bond is an obstetrician\, gynaecologist and sexual health physician at Melbourne Sexual Health Centre\, The Women’s Hospital and Mercy Hospital for Women. She is the Vice President of ANZVS\, and Clinical Lead for Sexual Health at the Royal Women’s Hospital. She is undertaking PhD research into congenital syphilis prevention. \nTarget audience: General practice staff\, primary healthcare workforce \nClick here for more information and to register
URL:https://murrayphn.org.au/event/addressing-rising-rates-of-congenital-syphilis-online/
CATEGORIES:External event,Webinar
ATTACH;FMTTYPE=image/jpeg:https://murrayphn.org.au/wp-content/uploads/2024/05/event-external.jpg
END:VEVENT
BEGIN:VEVENT
DTSTART;TZID=Australia/Melbourne:20260520T110000
DTEND;TZID=Australia/Melbourne:20260520T153000
DTSTAMP:20260424T104151
CREATED:20260211T220200Z
LAST-MODIFIED:20260211T220200Z
UID:10002884-1779274800-1779291000@murrayphn.org.au
SUMMARY:Advancing integration of Hepatitis C care | Online
DESCRIPTION:Hosted by ASHM \nWhat if the key to better hepatitis C care is rethinking what we mean by “culturally safe”? \nASHM’s interactive Forum returns for its fourth year with a dynamic three-part design to challenge assumptions\, centre lived experience and turn person-centred care into practical system change. Expect bold conversations\, hands-on sessions and real-world strategies you can take straight back to practice. \nLearning outcomes: \n1. Explain how person-centred care and universal safety principles can strengthen the quality and cultural responsiveness of services. \n2. Recognise how stigma\, unconscious bias and intersectional identities influence people’s experiences\, access to care and health outcomes. \n3. Integrate lived experience perspectives to improve inclusivity\, trust and responsiveness within clinical and community settings. \n4. Identify practical and scalable translational strategies that support system-level improvements and more equitable care pathways. \nTarget audience: All health workers\, including clinicians and prescribers\, service managers\, nurses\, AOD workers\, Aboriginal and Torres Strait Islander Health Workers\, peer workers\, and other health professionals who work in any setting with priority populations and are involved in the assessment and work-up of people with hepatitis C in Australia. \nClick here for more information and to register
URL:https://murrayphn.org.au/event/advancing-integration-of-hepatitis-c-care-online/
CATEGORIES:Webinar
ATTACH;FMTTYPE=image/jpeg:https://murrayphn.org.au/wp-content/uploads/2024/05/event-external.jpg
ORGANIZER;CN="ASHM Health":MAILTO:education@ashm.org.au
END:VEVENT
END:VCALENDAR