BEGIN:VCALENDAR
VERSION:2.0
PRODID:-//Murray PHN - ECPv6.15.20//NONSGML v1.0//EN
CALSCALE:GREGORIAN
METHOD:PUBLISH
X-WR-CALNAME:Murray PHN
X-ORIGINAL-URL:https://murrayphn.org.au
X-WR-CALDESC:Events for Murray PHN
REFRESH-INTERVAL;VALUE=DURATION:PT1H
X-Robots-Tag:noindex
X-PUBLISHED-TTL:PT1H
BEGIN:VTIMEZONE
TZID:Australia/Melbourne
BEGIN:STANDARD
TZOFFSETFROM:+1100
TZOFFSETTO:+1000
TZNAME:AEST
DTSTART:20240406T160000
END:STANDARD
BEGIN:DAYLIGHT
TZOFFSETFROM:+1000
TZOFFSETTO:+1100
TZNAME:AEDT
DTSTART:20241005T160000
END:DAYLIGHT
BEGIN:STANDARD
TZOFFSETFROM:+1100
TZOFFSETTO:+1000
TZNAME:AEST
DTSTART:20250405T160000
END:STANDARD
BEGIN:DAYLIGHT
TZOFFSETFROM:+1000
TZOFFSETTO:+1100
TZNAME:AEDT
DTSTART:20251004T160000
END:DAYLIGHT
BEGIN:STANDARD
TZOFFSETFROM:+1100
TZOFFSETTO:+1000
TZNAME:AEST
DTSTART:20260404T160000
END:STANDARD
BEGIN:DAYLIGHT
TZOFFSETFROM:+1000
TZOFFSETTO:+1100
TZNAME:AEDT
DTSTART:20261003T160000
END:DAYLIGHT
END:VTIMEZONE
BEGIN:VEVENT
DTSTART;TZID=Australia/Melbourne:20250305T183000
DTEND;TZID=Australia/Melbourne:20250319T203000
DTSTAMP:20260425T045708
CREATED:20250121T043830Z
LAST-MODIFIED:20250121T043842Z
UID:10000488-1741199400-1742416200@murrayphn.org.au
SUMMARY:Contemporary TGD Health for GPs and Prescribing Clinicians
DESCRIPTION:Created specifically for the unique needs of General Practitioners\, this CPD-accredited and free-of-charge course is designed to empower and equip Victorian GPs in transgender and gender diverse (TGD) primary care. \nCo-designed and delivered by leading General Practitioners in the field and TGD health professionals\, this initiative has been created to improve health outcomes and access for the trans and gender diverse population across the state. \nThe course combines interactive\, didactic\, and case-based learning covering topics such as: \n\nGender Affirming Hormone Therapy\nAffirmative Practice & clinical logistics\nSurgical options and referral\nMental health referral and support\nMedicare considerations\nFinding a community of practice.\n\nThere are three sessions in this series\, taking place on Wednesday 5\, 12 and 19 March 2025. \nClick here to learn more and register.
URL:https://murrayphn.org.au/event/contemporary-tgd-health-for-gps-prescribing-clinicians/
LOCATION:Online
CATEGORIES:Training,Webinar,Workshop
ATTACH;FMTTYPE=image/jpeg:https://murrayphn.org.au/wp-content/uploads/2024/05/event-external.jpg
ORGANIZER;CN="Thorne Harbour Health":MAILTO:enquiries@thorneharbour.org
END:VEVENT
BEGIN:VEVENT
DTSTART;TZID=Australia/Melbourne:20250305T190000
DTEND;TZID=Australia/Melbourne:20250305T203000
DTSTAMP:20260425T045708
CREATED:20250212T032314Z
LAST-MODIFIED:20250219T213743Z
UID:10000526-1741201200-1741206600@murrayphn.org.au
SUMMARY:Mental Health Professionals Network - Hakomi Mindful Somatic Therapy | Castlemaine
DESCRIPTION:The Mental Health Professionals Network are holding a free event for health professionals in the Castlemaine area. \nPlease join us for the first Castlemaine Mental Health Professionals’ Network meeting for 2025! \nThis event will include a demonstration of the Hakomi Method of Somatic Psychotherapy from Fran Woodruff. \nJoin us for an engaging and insightful gathering where Fran will introduce Hakomi Therapy\, exploring its origins\, principles\, and practical applications. She will also conduct a live demonstration\, with an opportunity for one volunteer to participate. As always\, there will be time for networking and informal discussions\, fostering the connections that make our community so strong. \nWe look forward to another insightful and engaging gathering.\nDrinks and nibbles provided. \nTarget audience: Mental Health professionals \nClick here for more information and to register
URL:https://murrayphn.org.au/event/mental-health-professionals-network-hakomi-mindful-somatic-therapy-castlemaine/
LOCATION:Castlemaine Community House\, 65 Templeton Street\, Castlemaine\, Victoria\, 3450\, Australia
CATEGORIES:External event
ATTACH;FMTTYPE=image/jpeg:https://murrayphn.org.au/wp-content/uploads/2024/05/event-external5.jpg
ORGANIZER;CN="Mental Health Professionals Network Ltd":MAILTO:r.lim@mhpn.org.au
GEO:-37.0632588;144.218936
X-APPLE-STRUCTURED-LOCATION;VALUE=URI;X-ADDRESS=Castlemaine Community House 65 Templeton Street Castlemaine Victoria 3450 Australia;X-APPLE-RADIUS=500;X-TITLE=65 Templeton Street:geo:144.218936,-37.0632588
END:VEVENT
END:VCALENDAR