BEGIN:VCALENDAR
VERSION:2.0
PRODID:-//Murray PHN - ECPv6.15.20//NONSGML v1.0//EN
CALSCALE:GREGORIAN
METHOD:PUBLISH
X-ORIGINAL-URL:https://murrayphn.org.au
X-WR-CALDESC:Events for Murray PHN
REFRESH-INTERVAL;VALUE=DURATION:PT1H
X-Robots-Tag:noindex
X-PUBLISHED-TTL:PT1H
BEGIN:VTIMEZONE
TZID:Australia/Melbourne
BEGIN:STANDARD
TZOFFSETFROM:+1100
TZOFFSETTO:+1000
TZNAME:AEST
DTSTART:20240406T160000
END:STANDARD
BEGIN:DAYLIGHT
TZOFFSETFROM:+1000
TZOFFSETTO:+1100
TZNAME:AEDT
DTSTART:20241005T160000
END:DAYLIGHT
BEGIN:STANDARD
TZOFFSETFROM:+1100
TZOFFSETTO:+1000
TZNAME:AEST
DTSTART:20250405T160000
END:STANDARD
BEGIN:DAYLIGHT
TZOFFSETFROM:+1000
TZOFFSETTO:+1100
TZNAME:AEDT
DTSTART:20251004T160000
END:DAYLIGHT
BEGIN:STANDARD
TZOFFSETFROM:+1100
TZOFFSETTO:+1000
TZNAME:AEST
DTSTART:20260404T160000
END:STANDARD
BEGIN:DAYLIGHT
TZOFFSETFROM:+1000
TZOFFSETTO:+1100
TZNAME:AEDT
DTSTART:20261003T160000
END:DAYLIGHT
END:VTIMEZONE
BEGIN:VEVENT
DTSTART;TZID=Australia/Melbourne:20250415T180000
DTEND;TZID=Australia/Melbourne:20250415T193000
DTSTAMP:20260423T071409
CREATED:20250319T012955Z
LAST-MODIFIED:20250319T012955Z
UID:10000586-1744740000-1744745400@murrayphn.org.au
SUMMARY:National Lung Cancer Screening Program - health workforce education | Online
DESCRIPTION:Hosted by the Australian Government and Lung Foundation Australia \nPrepare for the National Lung Cancer Screening Program commencing from July 2025. Led by the Australian Government\, in partnership with the National Aboriginal Community Controlled Health Organisation\, this program is designed to be equity-focused\, culturally safe\, and person-centered. In Australia\, lung cancer is the fifth most common cancer diagnosed and the leading cause of cancer death. Up to 70% of lung cancers can be detected at early stages through screening. \nThis free\, CPD accredited webinar will feature an expert panel on how to integrate lung cancer screening into your daily practice. Join to learn about the program’s objectives\, your role in supporting patient participation\, and practical strategies to implement the program in your practice or health service. \nTarget audience: GPs \nClick here for more information and to register
URL:https://murrayphn.org.au/event/national-lung-cancer-screening-program-health-workforce-education-online/
CATEGORIES:Webinar
ATTACH;FMTTYPE=image/jpeg:https://murrayphn.org.au/wp-content/uploads/2024/05/event-external2.jpg
ORGANIZER;CN="Lung Foundation Australia":MAILTO:enquiries@lungfoundation.com.au
END:VEVENT
END:VCALENDAR