BEGIN:VCALENDAR
VERSION:2.0
PRODID:-//Murray PHN - ECPv6.15.20//NONSGML v1.0//EN
CALSCALE:GREGORIAN
METHOD:PUBLISH
X-WR-CALNAME:Murray PHN
X-ORIGINAL-URL:https://murrayphn.org.au
X-WR-CALDESC:Events for Murray PHN
REFRESH-INTERVAL;VALUE=DURATION:PT1H
X-Robots-Tag:noindex
X-PUBLISHED-TTL:PT1H
BEGIN:VTIMEZONE
TZID:Australia/Melbourne
BEGIN:STANDARD
TZOFFSETFROM:+1100
TZOFFSETTO:+1000
TZNAME:AEST
DTSTART:20240406T160000
END:STANDARD
BEGIN:DAYLIGHT
TZOFFSETFROM:+1000
TZOFFSETTO:+1100
TZNAME:AEDT
DTSTART:20241005T160000
END:DAYLIGHT
BEGIN:STANDARD
TZOFFSETFROM:+1100
TZOFFSETTO:+1000
TZNAME:AEST
DTSTART:20250405T160000
END:STANDARD
BEGIN:DAYLIGHT
TZOFFSETFROM:+1000
TZOFFSETTO:+1100
TZNAME:AEDT
DTSTART:20251004T160000
END:DAYLIGHT
BEGIN:STANDARD
TZOFFSETFROM:+1100
TZOFFSETTO:+1000
TZNAME:AEST
DTSTART:20260404T160000
END:STANDARD
BEGIN:DAYLIGHT
TZOFFSETFROM:+1000
TZOFFSETTO:+1100
TZNAME:AEDT
DTSTART:20261003T160000
END:DAYLIGHT
END:VTIMEZONE
BEGIN:VEVENT
DTSTART;TZID=Australia/Melbourne:20250508T190000
DTEND;TZID=Australia/Melbourne:20250508T203000
DTSTAMP:20260420T182420
CREATED:20250414T231026Z
LAST-MODIFIED:20250414T231026Z
UID:10002616-1746730800-1746736200@murrayphn.org.au
SUMMARY:Prostate cancer survivorship: a multi-disciplinary approach to patient care | Online
DESCRIPTION:Hosted by the Australian Prostate Centre \nIn this session\, members of our multi-disciplinary team will provide an insight into each of their specialty areas to provide evidence-based practice to prostate cancer survivorship care. Case studies will be used for context. \nTo make this session as interactive as possible and relevant to you in your general practice setting\, we encourage all attendees to send us in advance any questions you have on prostate cancer survivorship as well as any case studies you would like discussed so they can be addressed throughout the evening. \nSpeakers\nDr Jane Crowe\, GP & Moderator.\nMr Michael Cromer\, Urology Nurse Practitioner.\nMs Jane Brownhill\, Pelvic Floor Physiotherapist.\nMr Max Rutherford\, Psychologist. \nLearning outcomes\nBy the end of this activity\, participants will be able to:\n1. Outline the side-effects and metabolic effects that patients with prostate cancer on ADT may experience and how GPs can monitor these patients.\n2. Explain how specialist urology nurses support patients who have had prostate cancer including erectile dysfunction.\n3. Outline the role and benefits of a tailored pelvic floor physiotherapy program for patients experiencing incontinence following prostate cancer treatments.\n4. Describe the role of the psychologist in assisting patients and their families at the time of a prostate cancer diagnosis and beyond. \nTarget audience: GPs\, nurses and allied health practitioners \nRACGP\n1.5 CPD Educational Activity hours. \nClick here for more information and to register
URL:https://murrayphn.org.au/event/prostate-cancer-survivorship-a-multi-disciplinary-approach-to-patient-care-online/
CATEGORIES:External event,Online course,Webinar
ATTACH;FMTTYPE=image/jpeg:https://murrayphn.org.au/wp-content/uploads/2024/05/event-external2.jpg
ORGANIZER;CN="Australian Prostate Centre":MAILTO:info@apcr.org.au
END:VEVENT
BEGIN:VEVENT
DTSTART;TZID=Australia/Melbourne:20250508T190000
DTEND;TZID=Australia/Melbourne:20250508T203000
DTSTAMP:20260420T182420
CREATED:20250423T023223Z
LAST-MODIFIED:20250423T023223Z
UID:10002622-1746730800-1746736200@murrayphn.org.au
SUMMARY:Let’s talk about sex: Understanding biological differences in CVD risk | Online
DESCRIPTION:Hosted by the Heart Foundation \nHeart Week (5 – 11 May) is Australia’s national heart health awareness campaign held in May each year. It provides an opportunity for health professionals and the Australian public to start a conversation about heart health and take positive steps to reduce their heart disease risk. \nThis year’s Heart Week clinical webinar will be chaired by Professor Garry Jennings\, Chief Medical Advisor of the Heart Foundation\, and will feature international keynote speakers\, Professor Hester den Ruijter (Netherlands) and Professor Christian Delles (Scotland)\, along with Australian specialists. Watch live as they explore the critical\, yet often-overlooked impact of sex biology on CVD\, offering practical insights and personalised approaches to optimising CVD risk factor management in primary healthcare settings. \nTarget audience: Hospital staff\, primary health care professionals \nClick here for more information and to register \nThis webinar has been accredited with the RACGP for 1.5 hours. (Activity number: 1219682) \n 
URL:https://murrayphn.org.au/event/lets-talk-about-sex-understanding-biological-differences-in-cvd-risk-online/
CATEGORIES:Community,External event,Webinar
ATTACH;FMTTYPE=image/jpeg:https://murrayphn.org.au/wp-content/uploads/2024/05/event-external2.jpg
END:VEVENT
END:VCALENDAR