BEGIN:VCALENDAR
VERSION:2.0
PRODID:-//Murray PHN - ECPv6.15.20//NONSGML v1.0//EN
CALSCALE:GREGORIAN
METHOD:PUBLISH
X-WR-CALNAME:Murray PHN
X-ORIGINAL-URL:https://murrayphn.org.au
X-WR-CALDESC:Events for Murray PHN
REFRESH-INTERVAL;VALUE=DURATION:PT1H
X-Robots-Tag:noindex
X-PUBLISHED-TTL:PT1H
BEGIN:VTIMEZONE
TZID:Australia/Melbourne
BEGIN:STANDARD
TZOFFSETFROM:+1100
TZOFFSETTO:+1000
TZNAME:AEST
DTSTART:20250405T160000
END:STANDARD
BEGIN:DAYLIGHT
TZOFFSETFROM:+1000
TZOFFSETTO:+1100
TZNAME:AEDT
DTSTART:20251004T160000
END:DAYLIGHT
BEGIN:STANDARD
TZOFFSETFROM:+1100
TZOFFSETTO:+1000
TZNAME:AEST
DTSTART:20260404T160000
END:STANDARD
BEGIN:DAYLIGHT
TZOFFSETFROM:+1000
TZOFFSETTO:+1100
TZNAME:AEDT
DTSTART:20261003T160000
END:DAYLIGHT
BEGIN:STANDARD
TZOFFSETFROM:+1100
TZOFFSETTO:+1000
TZNAME:AEST
DTSTART:20270403T160000
END:STANDARD
BEGIN:DAYLIGHT
TZOFFSETFROM:+1000
TZOFFSETTO:+1100
TZNAME:AEDT
DTSTART:20271002T160000
END:DAYLIGHT
END:VTIMEZONE
BEGIN:VEVENT
DTSTART;TZID=Australia/Melbourne:20260305T103000
DTEND;TZID=Australia/Melbourne:20260305T113000
DTSTAMP:20260424T075202
CREATED:20260210T054816Z
LAST-MODIFIED:20260210T054816Z
UID:10002882-1772706600-1772710200@murrayphn.org.au
SUMMARY:Comorbidity Guidelines - Dialectical behaviour therapy in practice: A clinician's guide | Online
DESCRIPTION:The Matilda Centre for Research in Mental Health and Substance Use at the University of Sydney has been funded by the Australian Government Department of Health\, Disability and Ageing to develop a series of on-demand webinars on evidence-based practice. Our webinars are freely available and focus on building capacity in relation to evidence-based practice approaches to the management and treatment of co-occurring alcohol and other drug (AOD) and mental health conditions. \nThis webinar will be presented by Dr Natalie Mastrogiovanni\, a research psychologist and clinical psychologist in community mental health\, seeing adults with complex mental health needs. Natalie generally works with clients who have complex trauma backgrounds\, personality vulnerabilities\, emotional dysregulation and substance use. \nBy the end of this webinar\, attendees will be able to: \n\nIdentify and describe the key components of the DBT model\nOutline DBT skills and determine when they are best applied\nUnderstand how DBT skills and concepts can be incorporated into AOD clinical practice\n\nTarget audience: AOD workers \nClick here for more information and to register
URL:https://murrayphn.org.au/event/comorbidity-guidelines-dialectical-behaviour-therapy-in-practice-a-clinicians-guide-online/
CATEGORIES:Webinar
ATTACH;FMTTYPE=image/jpeg:https://murrayphn.org.au/wp-content/uploads/2024/05/event-external2.jpg
ORGANIZER;CN="The Matilda Centre for Research in Mental Health and Substance Use- University of Sydney":MAILTO:enquiries@comorbidity.org.au
END:VEVENT
BEGIN:VEVENT
DTSTART;VALUE=DATE:20260324
DTEND;VALUE=DATE:20260328
DTSTAMP:20260424T075202
CREATED:20260204T234530Z
LAST-MODIFIED:20260204T234530Z
UID:10002874-1774310400-1774655999@murrayphn.org.au
SUMMARY:Comorbidity Guidelines skills-based training workshop | Melbourne
DESCRIPTION:The Matilda Centre for Research in Mental Health and Substance Use at the University of Sydney has been funded by the Australian Government Department of Health\, Disability and Ageing to deliver a series of free\, evidence-based training workshops for professionals supporting people using alcohol and other drugs (AOD). These workshops are designed to focus on building workforce capacity in relation to evidence-based practice approaches to the management and treatment of co-occurring alcohol and other drug (AOD) and mental health conditions. \nThe workshop will cover: \n\nA range of co-occurring mental-health conditions\nScreening and assessment\nMotivational enhancement\, cognitive\, and behavioural approaches.\n\nTarget audience: AOD workers \nClick here for more information and to register
URL:https://murrayphn.org.au/event/comorbidity-guidelines-skills-based-training-workshop-melbourne/
LOCATION:Citadines\, 131-135 Bourke St\, Victoria\, Melbourne\, 3000\, Australia
CATEGORIES:Melbourne,Training,Workshop
ATTACH;FMTTYPE=image/jpeg:https://murrayphn.org.au/wp-content/uploads/2024/05/event-external3.jpg
ORGANIZER;CN="The Matilda Centre for Research in Mental Health and Substance Use- University of Sydney":MAILTO:enquiries@comorbidity.org.au
END:VEVENT
BEGIN:VEVENT
DTSTART;TZID=Australia/Melbourne:20260327T120000
DTEND;TZID=Australia/Melbourne:20260327T163000
DTSTAMP:20260424T075202
CREATED:20251208T053626Z
LAST-MODIFIED:20251208T053626Z
UID:10002834-1774612800-1774629000@murrayphn.org.au
SUMMARY:National Hepatitis B s100 prescriber forum | Online
DESCRIPTION:Hosted by ASHM Health \nThe Hepatitis B Prescriber Forum is a half-day forum designed for hepatitis B s100 prescribers that will cover current and relevant sector priorities and topics. \nWith expert panels and interactive case discussions\, the forum is an opportunity to dive deep into emerging areas of hepatitis B treatment and management and discuss the contemporary issues facing hepatitis B clinical care in Australia. \nHBV s100 prescribers will receive 2 HBV CPD points for attending the Hepatitis B Prescriber Forum. \nTarget audience: Hepatitis B s100 prescribers \nClick here for more information and to register
URL:https://murrayphn.org.au/event/national-hepatitis-b-s100-prescriber-forum-online/
CATEGORIES:Online course,Training
ATTACH;FMTTYPE=image/jpeg:https://murrayphn.org.au/wp-content/uploads/2024/05/event-external2.jpg
ORGANIZER;CN="ASHM Health":MAILTO:education@ashm.org.au
END:VEVENT
END:VCALENDAR