BEGIN:VCALENDAR
VERSION:2.0
PRODID:-//Murray PHN - ECPv6.15.20//NONSGML v1.0//EN
CALSCALE:GREGORIAN
METHOD:PUBLISH
X-WR-CALNAME:Murray PHN
X-ORIGINAL-URL:https://murrayphn.org.au
X-WR-CALDESC:Events for Murray PHN
REFRESH-INTERVAL;VALUE=DURATION:PT1H
X-Robots-Tag:noindex
X-PUBLISHED-TTL:PT1H
BEGIN:VTIMEZONE
TZID:Australia/Melbourne
BEGIN:STANDARD
TZOFFSETFROM:+1100
TZOFFSETTO:+1000
TZNAME:AEST
DTSTART:20250405T160000
END:STANDARD
BEGIN:DAYLIGHT
TZOFFSETFROM:+1000
TZOFFSETTO:+1100
TZNAME:AEDT
DTSTART:20251004T160000
END:DAYLIGHT
BEGIN:STANDARD
TZOFFSETFROM:+1100
TZOFFSETTO:+1000
TZNAME:AEST
DTSTART:20260404T160000
END:STANDARD
BEGIN:DAYLIGHT
TZOFFSETFROM:+1000
TZOFFSETTO:+1100
TZNAME:AEDT
DTSTART:20261003T160000
END:DAYLIGHT
BEGIN:STANDARD
TZOFFSETFROM:+1100
TZOFFSETTO:+1000
TZNAME:AEST
DTSTART:20270403T160000
END:STANDARD
BEGIN:DAYLIGHT
TZOFFSETFROM:+1000
TZOFFSETTO:+1100
TZNAME:AEDT
DTSTART:20271002T160000
END:DAYLIGHT
END:VTIMEZONE
BEGIN:VEVENT
DTSTART;TZID=Australia/Melbourne:20260423T110000
DTEND;TZID=Australia/Melbourne:20260423T120000
DTSTAMP:20260422T001718
CREATED:20260407T031203Z
LAST-MODIFIED:20260407T031203Z
UID:10002993-1776942000-1776945600@murrayphn.org.au
SUMMARY:Evidence update and practical strategies for treating co-occurring anxiety and substance use | Online
DESCRIPTION:The Matilda Centre for Research in Mental Health and Substance Use at the University of Sydney has been funded by the Australian Government Department of Health\, Disability and Ageing to develop a series of on-demand webinars on evidence-based practice. Our webinars are freely available and focus on building capacity in relation to evidence-based practice approaches to the management and treatment of co-occurring alcohol and other drug (AOD) and mental health conditions. \nSpeakers include Professor Lexine Stapinski \nTopics:\n• The prevalence and clinical relevance of the co-occurrence between anxiety and substance use disorders\n• The impact of co-occurring anxiety and substance use disorders on treatment and recovery\n• Up-to-date evidence about effective treatment approaches for co-occurring anxiety and substance use disorders\n• Practical treatment strategies for working with people with co-occurring anxiety and substance use disorders\, including navigating common challenges \nTarget audience: AOD and mental health professionals \nClick here for more information and to register
URL:https://murrayphn.org.au/event/evidence-update-and-practical-strategies-for-treating-co-occurring-anxiety-and-substance-use-online/
CATEGORIES:Webinar
ATTACH;FMTTYPE=image/jpeg:https://murrayphn.org.au/wp-content/uploads/2024/05/event-external2.jpg
ORGANIZER;CN="The Matilda Centre for Research in Mental Health and Substance Use- University of Sydney":MAILTO:enquiries@comorbidity.org.au
END:VEVENT
END:VCALENDAR