BEGIN:VCALENDAR
VERSION:2.0
PRODID:-//Murray PHN - ECPv6.15.20//NONSGML v1.0//EN
CALSCALE:GREGORIAN
METHOD:PUBLISH
X-WR-CALNAME:Murray PHN
X-ORIGINAL-URL:https://murrayphn.org.au
X-WR-CALDESC:Events for Murray PHN
REFRESH-INTERVAL;VALUE=DURATION:PT1H
X-Robots-Tag:noindex
X-PUBLISHED-TTL:PT1H
BEGIN:VTIMEZONE
TZID:Australia/Melbourne
BEGIN:STANDARD
TZOFFSETFROM:+1100
TZOFFSETTO:+1000
TZNAME:AEST
DTSTART:20250405T160000
END:STANDARD
BEGIN:DAYLIGHT
TZOFFSETFROM:+1000
TZOFFSETTO:+1100
TZNAME:AEDT
DTSTART:20251004T160000
END:DAYLIGHT
BEGIN:STANDARD
TZOFFSETFROM:+1100
TZOFFSETTO:+1000
TZNAME:AEST
DTSTART:20260404T160000
END:STANDARD
BEGIN:DAYLIGHT
TZOFFSETFROM:+1000
TZOFFSETTO:+1100
TZNAME:AEDT
DTSTART:20261003T160000
END:DAYLIGHT
BEGIN:STANDARD
TZOFFSETFROM:+1100
TZOFFSETTO:+1000
TZNAME:AEST
DTSTART:20270403T160000
END:STANDARD
BEGIN:DAYLIGHT
TZOFFSETFROM:+1000
TZOFFSETTO:+1100
TZNAME:AEDT
DTSTART:20271002T160000
END:DAYLIGHT
END:VTIMEZONE
BEGIN:VEVENT
DTSTART;TZID=Australia/Melbourne:20260326T100000
DTEND;TZID=Australia/Melbourne:20260326T120000
DTSTAMP:20260420T192539
CREATED:20260211T052449Z
LAST-MODIFIED:20260211T052449Z
UID:10002883-1774519200-1774526400@murrayphn.org.au
SUMMARY:Building resilience and wellbeing | Online
DESCRIPTION:Hosted by Studer Group Australia \nThis interactive two-hour virtual workshop is designed to support healthcare leaders to strengthen resilience\, manage stress\, and foster a workplace culture where people can genuinely thrive. \nThe session explores practical approaches to managing stress\, preventing burnout\, and promoting psychological safety and wellbeing across teams. \nThis workshop will support you as a leader to:\n• Recognise the unique challenges faced by healthcare leaders and their impact on resilience\n• Identify early signs of stress and burnout in yourself and others\n• Develop strategies to balance personal wellbeing with leadership responsibilities\n• Set healthy boundaries to protect personal time while remaining accessible\n• Build skills to support team members to strengthen resilience and manage stress \nTarget audience: Health professionals \nClick here for more information and to register
URL:https://murrayphn.org.au/event/building-resilience-and-wellbeing-online/
CATEGORIES:External event
ATTACH;FMTTYPE=image/jpeg:https://murrayphn.org.au/wp-content/uploads/2024/05/event-external2.jpg
ORGANIZER;CN="Studer Group Australia":MAILTO:events@studergroup.com.au
END:VEVENT
BEGIN:VEVENT
DTSTART;TZID=Australia/Melbourne:20260326T173000
DTEND;TZID=Australia/Melbourne:20260326T200000
DTSTAMP:20260420T192539
CREATED:20260309T230313Z
LAST-MODIFIED:20260312T012835Z
UID:10002968-1774546200-1774555200@murrayphn.org.au
SUMMARY:NHW Grand Round | Haematology and virtual ward rounds | Wangaratta or online
DESCRIPTION:You are warmly invited to attend Northeast Health Wangaratta’s upcoming Grand Round focusing on haematology and virtual ward rounds\, showcasing early outcomes from NHW’s involvement in the Victorian-first Virtual Hospital Pilot. \nThis session will provide an overview of NHW’s recently launched virtual ward rounds\, delivered in partnership with Royal Melbourne Hospital (RMH). The pilot enables patients in Wangaratta to access specialist inpatient care closer to home\, reducing the need for travel to Melbourne while maintaining high standards of care. \n• Hear about the multidisciplinary management of ITP\, including a case study from a patient managed on Virtual Ward Rounds at Northeast Health Wangaratta.\n• Learn more about the virtual ward rounds pilot and preliminary results from Northeast Health Wangaratta \nPresenters \n\nDr David Turner\, Clinical Director Internal Medicine | Northeast Health Wangaratta\nA/Prof Kylie Mason\, Clinical Haematologist | The Royal Melbourne Hospital\nRebecca Dring\, Nurse Practitioner\, Haematology | The Royal Melbourne Hospital\nCatherine Humphrey\, Virtual Hospital Lead\, Director Clinical Innovation\, Transformation and Reform | Royal Melbourne Hospital\nRebecca Weir\, Chief Operating Officer | Northeast Health Wangaratta\n\nTarget audience: GPs \nTo assist us in monitoring numbers\, please RSVP to advise if you will attend in person or via MS Teams.\nRSVP before Friday 20 March to: medical.education@nhw.org.au
URL:https://murrayphn.org.au/event/nhw-grand-round-haematology-and-virtual-ward-rounds-wangaratta/
LOCATION:Gateway Hotel\, 29-37 Ryley St\, Wangaratta VIC 3677\, Wangaratta\, 3677
CATEGORIES:External event,Forum,Seminar
ATTACH;FMTTYPE=image/jpeg:https://murrayphn.org.au/wp-content/uploads/2024/05/event-external3.jpg
END:VEVENT
END:VCALENDAR