BEGIN:VCALENDAR
VERSION:2.0
PRODID:-//Murray PHN - ECPv6.15.20//NONSGML v1.0//EN
CALSCALE:GREGORIAN
METHOD:PUBLISH
X-ORIGINAL-URL:https://murrayphn.org.au
X-WR-CALDESC:Events for Murray PHN
REFRESH-INTERVAL;VALUE=DURATION:PT1H
X-Robots-Tag:noindex
X-PUBLISHED-TTL:PT1H
BEGIN:VTIMEZONE
TZID:Australia/Melbourne
BEGIN:STANDARD
TZOFFSETFROM:+1100
TZOFFSETTO:+1000
TZNAME:AEST
DTSTART:20250405T160000
END:STANDARD
BEGIN:DAYLIGHT
TZOFFSETFROM:+1000
TZOFFSETTO:+1100
TZNAME:AEDT
DTSTART:20251004T160000
END:DAYLIGHT
BEGIN:STANDARD
TZOFFSETFROM:+1100
TZOFFSETTO:+1000
TZNAME:AEST
DTSTART:20260404T160000
END:STANDARD
BEGIN:DAYLIGHT
TZOFFSETFROM:+1000
TZOFFSETTO:+1100
TZNAME:AEDT
DTSTART:20261003T160000
END:DAYLIGHT
BEGIN:STANDARD
TZOFFSETFROM:+1100
TZOFFSETTO:+1000
TZNAME:AEST
DTSTART:20270403T160000
END:STANDARD
BEGIN:DAYLIGHT
TZOFFSETFROM:+1000
TZOFFSETTO:+1100
TZNAME:AEDT
DTSTART:20271002T160000
END:DAYLIGHT
END:VTIMEZONE
BEGIN:VEVENT
DTSTART;TZID=Australia/Melbourne:20260430T100000
DTEND;TZID=Australia/Melbourne:20260430T140000
DTSTAMP:20260424T215735
CREATED:20260325T034128Z
LAST-MODIFIED:20260325T034128Z
UID:10002990-1777543200-1777557600@murrayphn.org.au
SUMMARY:Difficult conversations and performance feedback | Online
DESCRIPTION:Hosted by Studer Group Australia \nThis interactive four-hour online session is designed to equip healthcare professionals with the confidence\, tools\, and techniques to navigate difficult conversations and address performance feedback in a constructive and effective way. \nParticipants will learn how to:\n• Prepare mentally and emotionally for challenging conversations\n• Build confidence and skill in raising sensitive topics\n• Use a practical framework to deliver feedback that supports improved performance\n• Strengthen accountability\, engagement and trust within their teams \nBy the end of the session\, participants will walk away with practical strategies and greater confidence to approach difficult conversations and performance discussions as opportunities for growth\, clarity and stronger working relationships. \nThis engaging session will be led by Michele Dobe and Jaime Thomson\, who bring a strong clinical background and a wealth of experience. \nTarget audience: Healthcare professionals \nClick here to learn more and register
URL:https://murrayphn.org.au/event/difficult-conversations-and-performance-feedback-online/
LOCATION:Vic
CATEGORIES:External event
ATTACH;FMTTYPE=image/jpeg:https://murrayphn.org.au/wp-content/uploads/2024/05/event-external2.jpg
ORGANIZER;CN="Studer Group Australia":MAILTO:events@studergroup.com.au
END:VEVENT
BEGIN:VEVENT
DTSTART;VALUE=DATE:20260613
DTEND;VALUE=DATE:20260614
DTSTAMP:20260424T215735
CREATED:20260414T024100Z
LAST-MODIFIED:20260414T024100Z
UID:10003006-1781308800-1781395199@murrayphn.org.au
SUMMARY:Myhealth Academy Women's and Men's Health Essentials in Primary Care Conference
DESCRIPTION:Hosted by myhealth Academy \nWe are excited to announce the launch of the Myhealth Academy Women’s & Men’s Health Essentials Conference 2026 bringing these two critical domains together for the first time in a single\, integrated\, high-impact program. \nThis year’s program has been thoughtfully curated by GPs to address the evolving complexities of primary care\, with a strong emphasis on practical skills training\, multidisciplinary collaboration\, and contemporary clinical challenges you can apply in advancing everyday practice. \nDelegates will benefit from an expert faculty of speakers delivering focused sessions across key areas\, including: \nFertility Assessment & IVF\nFamily Planning\, Conception & Adolescent Health\nDense Breast Notification: Clinical Next Steps\nPathology in Primary Care\nEndometriosis & Chronic Pelvic Pain\nNavigating Menopause\nScreening & Diagnostics in Men’s & Women’s Health\nMen’s Health\, including mental health & wellbeing panel discussion\nWeight Management\nAfternoon Skills Workshops on LARC and IUD Training \nIn addition to the core CPD accredited program\, attendees will have access to LARC practical skills training and immersive LARC Experience Sessions\, supporting the translation of knowledge into advancing procedural confidence in everyday clinical practice. \nIn recognition of Men’s Health Week\, the program will also feature dedicated content addressing gaps in men’s health\, ensuring a truly holistic and inclusive approach to patient care. \nTarget audience: GPs \nClick here for more information and to register
URL:https://murrayphn.org.au/event/myhealth-academy-womens-and-mens-health-essentials-in-primary-care-conference/
LOCATION:The Westin Hotel Melbourne\, 205 Collins Street\, Melbourne\, Vic\, 3000\, Australia
CATEGORIES:Conference
ATTACH;FMTTYPE=image/jpeg:https://murrayphn.org.au/wp-content/uploads/2024/05/event-external5.jpg
END:VEVENT
END:VCALENDAR