BEGIN:VCALENDAR
VERSION:2.0
PRODID:-//Murray PHN - ECPv6.15.20//NONSGML v1.0//EN
CALSCALE:GREGORIAN
METHOD:PUBLISH
X-WR-CALNAME:Murray PHN
X-ORIGINAL-URL:https://murrayphn.org.au
X-WR-CALDESC:Events for Murray PHN
REFRESH-INTERVAL;VALUE=DURATION:PT1H
X-Robots-Tag:noindex
X-PUBLISHED-TTL:PT1H
BEGIN:VTIMEZONE
TZID:Australia/Melbourne
BEGIN:STANDARD
TZOFFSETFROM:+1100
TZOFFSETTO:+1000
TZNAME:AEST
DTSTART:20250405T160000
END:STANDARD
BEGIN:DAYLIGHT
TZOFFSETFROM:+1000
TZOFFSETTO:+1100
TZNAME:AEDT
DTSTART:20251004T160000
END:DAYLIGHT
BEGIN:STANDARD
TZOFFSETFROM:+1100
TZOFFSETTO:+1000
TZNAME:AEST
DTSTART:20260404T160000
END:STANDARD
BEGIN:DAYLIGHT
TZOFFSETFROM:+1000
TZOFFSETTO:+1100
TZNAME:AEDT
DTSTART:20261003T160000
END:DAYLIGHT
BEGIN:STANDARD
TZOFFSETFROM:+1100
TZOFFSETTO:+1000
TZNAME:AEST
DTSTART:20270403T160000
END:STANDARD
BEGIN:DAYLIGHT
TZOFFSETFROM:+1000
TZOFFSETTO:+1100
TZNAME:AEDT
DTSTART:20271002T160000
END:DAYLIGHT
END:VTIMEZONE
BEGIN:VEVENT
DTSTART;TZID=Australia/Melbourne:20260331T180000
DTEND;TZID=Australia/Melbourne:20260331T200000
DTSTAMP:20260421T023218
CREATED:20260319T005548Z
LAST-MODIFIED:20260319T005548Z
UID:10002979-1774980000-1774987200@murrayphn.org.au
SUMMARY:GP education session | Rutherglen
DESCRIPTION:Hosted by Albury Wodonga Private Hospital \nJoin fellow GPs and specialist presenters to learn the latest in treatment of shoulder conditions\, hip pain and coronary artery disease. \nPresenters \nDr Asher Livingston – Orthopaedic surgery\nDr Jason Hockings – Orthopaedic surgery\nDr Arul Baradi – Cardiology \nLearning outcomes \n\nDescribe how to assess and manage common shoulder conditions\nIdentify updates in treatment of hip pain\nOutline current guidelines for prevention/management of coronary artery disease\n\nTarget audience: GPs \nClick here for more information and to register \nThis is a sponsored event.
URL:https://murrayphn.org.au/event/gp-education-session-rutherglen/
ATTACH;FMTTYPE=image/jpeg:https://murrayphn.org.au/wp-content/uploads/2024/05/event-external4.jpg
END:VEVENT
END:VCALENDAR