BEGIN:VCALENDAR
VERSION:2.0
PRODID:-//Murray PHN - ECPv6.15.20//NONSGML v1.0//EN
CALSCALE:GREGORIAN
METHOD:PUBLISH
X-ORIGINAL-URL:https://murrayphn.org.au
X-WR-CALDESC:Events for Murray PHN
REFRESH-INTERVAL;VALUE=DURATION:PT1H
X-Robots-Tag:noindex
X-PUBLISHED-TTL:PT1H
BEGIN:VTIMEZONE
TZID:Australia/Melbourne
BEGIN:STANDARD
TZOFFSETFROM:+1100
TZOFFSETTO:+1000
TZNAME:AEST
DTSTART:20230401T160000
END:STANDARD
BEGIN:DAYLIGHT
TZOFFSETFROM:+1000
TZOFFSETTO:+1100
TZNAME:AEDT
DTSTART:20230930T160000
END:DAYLIGHT
BEGIN:STANDARD
TZOFFSETFROM:+1100
TZOFFSETTO:+1000
TZNAME:AEST
DTSTART:20240406T160000
END:STANDARD
BEGIN:DAYLIGHT
TZOFFSETFROM:+1000
TZOFFSETTO:+1100
TZNAME:AEDT
DTSTART:20241005T160000
END:DAYLIGHT
BEGIN:STANDARD
TZOFFSETFROM:+1100
TZOFFSETTO:+1000
TZNAME:AEST
DTSTART:20250405T160000
END:STANDARD
BEGIN:DAYLIGHT
TZOFFSETFROM:+1000
TZOFFSETTO:+1100
TZNAME:AEDT
DTSTART:20251004T160000
END:DAYLIGHT
END:VTIMEZONE
BEGIN:VEVENT
DTSTART;TZID=Australia/Melbourne:20240717T190000
DTEND;TZID=Australia/Melbourne:20240717T200000
DTSTAMP:20260424T080109
CREATED:20240701T043303Z
LAST-MODIFIED:20240701T074139Z
UID:10000270-1721242800-1721246400@murrayphn.org.au
SUMMARY:Recurrent Urinary Tract Infections in females: management in the general practice setting | Online
DESCRIPTION:Urogynaecologist Dr J. Oliver Daly will outline the initial assessment of females who present with recurrent urinary tract infections (UTIs)\, contributory causes\, treatment options and management in the general practice setting. Red flags that require referral to a specialist will be highlighted. Case studies will be used for context. \nBy the end of this activity\, participants will be able to:\n1. Perform initial assessment and investigations for recurrent UTIs.\n2. Identify the red flags for referral to a specialist. \nRACGP\nOne CPD Educational Activity hour. \nClick here to register and for more information.
URL:https://murrayphn.org.au/event/recurrent-urinary-tract-infections-in-females-management-in-the-general-practice-setting/
CATEGORIES:External event,Webinar
ATTACH;FMTTYPE=image/jpeg:https://murrayphn.org.au/wp-content/uploads/2024/05/event-external.jpg
ORGANIZER;CN="Australian Prostrate Centre":MAILTO:info@apcr.org.au
END:VEVENT
END:VCALENDAR