BEGIN:VCALENDAR
VERSION:2.0
PRODID:-//Murray PHN - ECPv6.15.20//NONSGML v1.0//EN
CALSCALE:GREGORIAN
METHOD:PUBLISH
X-WR-CALNAME:Murray PHN
X-ORIGINAL-URL:https://murrayphn.org.au
X-WR-CALDESC:Events for Murray PHN
REFRESH-INTERVAL;VALUE=DURATION:PT1H
X-Robots-Tag:noindex
X-PUBLISHED-TTL:PT1H
BEGIN:VTIMEZONE
TZID:Australia/Melbourne
BEGIN:STANDARD
TZOFFSETFROM:+1100
TZOFFSETTO:+1000
TZNAME:AEST
DTSTART:20250405T160000
END:STANDARD
BEGIN:DAYLIGHT
TZOFFSETFROM:+1000
TZOFFSETTO:+1100
TZNAME:AEDT
DTSTART:20251004T160000
END:DAYLIGHT
BEGIN:STANDARD
TZOFFSETFROM:+1100
TZOFFSETTO:+1000
TZNAME:AEST
DTSTART:20260404T160000
END:STANDARD
BEGIN:DAYLIGHT
TZOFFSETFROM:+1000
TZOFFSETTO:+1100
TZNAME:AEDT
DTSTART:20261003T160000
END:DAYLIGHT
BEGIN:STANDARD
TZOFFSETFROM:+1100
TZOFFSETTO:+1000
TZNAME:AEST
DTSTART:20270403T160000
END:STANDARD
BEGIN:DAYLIGHT
TZOFFSETFROM:+1000
TZOFFSETTO:+1100
TZNAME:AEDT
DTSTART:20271002T160000
END:DAYLIGHT
END:VTIMEZONE
BEGIN:VEVENT
DTSTART;TZID=Australia/Melbourne:20260616T093000
DTEND;TZID=Australia/Melbourne:20260616T143000
DTSTAMP:20260425T002147
CREATED:20260420T013652Z
LAST-MODIFIED:20260420T013652Z
UID:10003014-1781602200-1781620200@murrayphn.org.au
SUMMARY:Hope for the best\, plan for the rest workshop | Albury
DESCRIPTION:This workshop is designed to empower individuals and their families who are facing a life-changing illness by helping them navigate care with confidence. \nClick here to learn more and register.
URL:https://murrayphn.org.au/event/hope-for-the-best-plan-for-the-rest-workshop-albury/
LOCATION:Albury Library Museum\, Corner Kiewa and Swift Streets\, Albury\, NSW\, 2640
CATEGORIES:Albury,Community,Workshop
ATTACH;FMTTYPE=image/png:https://murrayphn.org.au/wp-content/uploads/2026/04/Good2go-workshop-website-banner.png
ORGANIZER;CN="The Good2Go collective":MAILTO:g2gcollective@gmail.com
GEO:-36.0786345;146.9160624
X-APPLE-STRUCTURED-LOCATION;VALUE=URI;X-ADDRESS=Albury Library Museum Corner Kiewa and Swift Streets Albury NSW 2640;X-APPLE-RADIUS=500;X-TITLE=Corner Kiewa and Swift Streets:geo:146.9160624,-36.0786345
END:VEVENT
BEGIN:VEVENT
DTSTART;TZID=Australia/Melbourne:20260711T100000
DTEND;TZID=Australia/Melbourne:20260711T160000
DTSTAMP:20260425T002147
CREATED:20260322T222646Z
LAST-MODIFIED:20260407T031423Z
UID:10002982-1783764000-1783785600@murrayphn.org.au
SUMMARY:Suturing | Albury
DESCRIPTION:Hosted by Health Education Collaborative \nThis suturing course provides the theoretical and practical essentials to close and manage noncomplex traumatic laceration\, biopsies and surgical excisions.\nThis course is ideally suited to nurses\, doctors and medical students that have little or no suturing experience or wish to advance their current basic skill of only using single interrupted suturing technique. \nTarget audience: Nurses\, doctors\, medical students \nClick here for more information and to register
URL:https://murrayphn.org.au/event/suturing-albury/
LOCATION:Albury Library Museum\, Corner Kiewa and Swift Streets\, Albury\, NSW\, 2640
CATEGORIES:Workshop
ATTACH;FMTTYPE=image/jpeg:https://murrayphn.org.au/wp-content/uploads/2024/05/event-external4.jpg
ORGANIZER;CN="Health Education Collaborative":MAILTO:info@healthec.com.au
GEO:-36.0786345;146.9160624
X-APPLE-STRUCTURED-LOCATION;VALUE=URI;X-ADDRESS=Albury Library Museum Corner Kiewa and Swift Streets Albury NSW 2640;X-APPLE-RADIUS=500;X-TITLE=Corner Kiewa and Swift Streets:geo:146.9160624,-36.0786345
END:VEVENT
END:VCALENDAR