BEGIN:VCALENDAR
VERSION:2.0
PRODID:-//Murray PHN - ECPv6.15.20//NONSGML v1.0//EN
CALSCALE:GREGORIAN
METHOD:PUBLISH
X-WR-CALNAME:Murray PHN
X-ORIGINAL-URL:https://murrayphn.org.au
X-WR-CALDESC:Events for Murray PHN
REFRESH-INTERVAL;VALUE=DURATION:PT1H
X-Robots-Tag:noindex
X-PUBLISHED-TTL:PT1H
BEGIN:VTIMEZONE
TZID:Australia/Melbourne
BEGIN:STANDARD
TZOFFSETFROM:+1100
TZOFFSETTO:+1000
TZNAME:AEST
DTSTART:20240406T160000
END:STANDARD
BEGIN:DAYLIGHT
TZOFFSETFROM:+1000
TZOFFSETTO:+1100
TZNAME:AEDT
DTSTART:20241005T160000
END:DAYLIGHT
BEGIN:STANDARD
TZOFFSETFROM:+1100
TZOFFSETTO:+1000
TZNAME:AEST
DTSTART:20250405T160000
END:STANDARD
BEGIN:DAYLIGHT
TZOFFSETFROM:+1000
TZOFFSETTO:+1100
TZNAME:AEDT
DTSTART:20251004T160000
END:DAYLIGHT
BEGIN:STANDARD
TZOFFSETFROM:+1100
TZOFFSETTO:+1000
TZNAME:AEST
DTSTART:20260404T160000
END:STANDARD
BEGIN:DAYLIGHT
TZOFFSETFROM:+1000
TZOFFSETTO:+1100
TZNAME:AEDT
DTSTART:20261003T160000
END:DAYLIGHT
END:VTIMEZONE
BEGIN:VEVENT
DTSTART;TZID=Australia/Melbourne:20250523T090000
DTEND;TZID=Australia/Melbourne:20250523T170000
DTSTAMP:20260424T122624
CREATED:20250408T234718Z
LAST-MODIFIED:20250408T234718Z
UID:10002606-1747990800-1748019600@murrayphn.org.au
SUMMARY:Youth in distress: Managing suicidality and self-harm | Bendigo
DESCRIPTION:Presented by Black Dog Institute\, this training has been designed to build on the current level of skills of psychologists and counsellors working with young people. It aims to further develop confidence in undertaking risk assessments and safety planning for youth in distress. \nThe workshop is suitable for mental health clinicians working with young people providing mental health support in a 1:1 setting. A baseline of knowledge and skills in providing mental health support is assumed. If you do not have this\, this training will not be suitable for you. \nClick here to register.
URL:https://murrayphn.org.au/event/youth-in-distress-managing-suicidality-and-self-harm-bendigo/
LOCATION:headspace Bendigo\, 78-80 Pall Mall\, Bendigo\, VIC\, 3550\, Australia
CATEGORIES:Bendigo,Training
ATTACH;FMTTYPE=image/jpeg:https://murrayphn.org.au/wp-content/uploads/2024/05/phn-event2-e1755578671654.jpg
ORGANIZER;CN="Murray PHN":MAILTO:education@murrayphn.org.au
END:VEVENT
END:VCALENDAR