BEGIN:VCALENDAR
VERSION:2.0
PRODID:-//Murray PHN - ECPv6.15.20//NONSGML v1.0//EN
CALSCALE:GREGORIAN
METHOD:PUBLISH
X-ORIGINAL-URL:https://murrayphn.org.au
X-WR-CALDESC:Events for Murray PHN
REFRESH-INTERVAL;VALUE=DURATION:PT1H
X-Robots-Tag:noindex
X-PUBLISHED-TTL:PT1H
BEGIN:VTIMEZONE
TZID:UTC
BEGIN:STANDARD
TZOFFSETFROM:+0000
TZOFFSETTO:+0000
TZNAME:UTC
DTSTART:20250101T000000
END:STANDARD
END:VTIMEZONE
BEGIN:VTIMEZONE
TZID:Australia/Melbourne
BEGIN:STANDARD
TZOFFSETFROM:+1100
TZOFFSETTO:+1000
TZNAME:AEST
DTSTART:20250405T160000
END:STANDARD
BEGIN:DAYLIGHT
TZOFFSETFROM:+1000
TZOFFSETTO:+1100
TZNAME:AEDT
DTSTART:20251004T160000
END:DAYLIGHT
BEGIN:STANDARD
TZOFFSETFROM:+1100
TZOFFSETTO:+1000
TZNAME:AEST
DTSTART:20260404T160000
END:STANDARD
BEGIN:DAYLIGHT
TZOFFSETFROM:+1000
TZOFFSETTO:+1100
TZNAME:AEDT
DTSTART:20261003T160000
END:DAYLIGHT
BEGIN:STANDARD
TZOFFSETFROM:+1100
TZOFFSETTO:+1000
TZNAME:AEST
DTSTART:20270403T160000
END:STANDARD
BEGIN:DAYLIGHT
TZOFFSETFROM:+1000
TZOFFSETTO:+1100
TZNAME:AEDT
DTSTART:20271002T160000
END:DAYLIGHT
END:VTIMEZONE
BEGIN:VEVENT
DTSTART;TZID=UTC:20260423T084500
DTEND;TZID=UTC:20260424T163000
DTSTAMP:20260423T013741
CREATED:20260323T231302Z
LAST-MODIFIED:20260416T024533Z
UID:10002988-1776933900-1777048200@murrayphn.org.au
SUMMARY:Applied suicide intervention skills training (ASIST) | Mildura (CANCELLED)
DESCRIPTION:Please note this event has been cancelled and a new training date has been set for 16-17 June – click here to register for it. \nASIST is founded on the principle that everyone can make a difference in preventing suicide. The more people who have suicide intervention training\, the more likely it is they will be able to identify someone at risk and intervene to keep them safe. This training is for community members who are aged 16 years and older\, and health professionals. \nDuring the two-day workshop\, ASIST participants will learn to: \n\nUnderstand the ways personal and societal attitudes affect views on suicide and interventions\nProvide guidance and suicide first-aid to a person at risk in ways that meet their individual safety needs\nIdentify the key elements of an effective suicide safety plan and the actions required to implement it\nAppreciate the value of improving and integrating suicide prevention resources in the community\nRecognise other important aspects of suicide prevention including life-promotion and self-care.
URL:https://murrayphn.org.au/event/applied-suicide-intervention-skills-training-asist-mildura-4/
LOCATION:Mildura Sporting Precinct\, Corner of Deakin Avenue and Sixteenth Street\, Mildura\, Victoria\, 3500\, Australia
CATEGORIES:Community,Mildura,Training
ATTACH;FMTTYPE=image/jpeg:https://murrayphn.org.au/wp-content/uploads/2024/05/phn-event7.jpg
ORGANIZER;CN="Murray PHN":MAILTO:education@murrayphn.org.au
END:VEVENT
BEGIN:VEVENT
DTSTART;TZID=Australia/Melbourne:20260526T090000
DTEND;TZID=Australia/Melbourne:20260526T170000
DTSTAMP:20260423T013741
CREATED:20260305T052433Z
LAST-MODIFIED:20260319T013922Z
UID:10002966-1779786000-1779814800@murrayphn.org.au
SUMMARY:Essentials of Primary Health Care workshop | Mildura
DESCRIPTION:This workshop is for primary healthcare nurses at any career stage. Delivered by Nurse Educators from the Australian Primary Health Care Nurses Association (APNA)\, it will provide people with skills and knowledge on chronic condition management\, immunisation\, clinical assessment and triage\, wound management\, infection prevention and control\, professional practice and the Australian health care system. \nClick here for a flyer. \nClick here to learn more and register. \n 
URL:https://murrayphn.org.au/event/essentials-of-primary-health-care-workshop-mildura/
LOCATION:Mildura Sporting Precinct\, Corner of Deakin Avenue and Sixteenth Street\, Mildura\, Victoria\, 3500\, Australia
CATEGORIES:Mildura,Workshop
ATTACH;FMTTYPE=image/png:https://murrayphn.org.au/wp-content/uploads/2026/02/Event-apna-primarycare-workshop.png
ORGANIZER;CN="Murray PHN":MAILTO:education@murrayphn.org.au
END:VEVENT
END:VCALENDAR