BEGIN:VCALENDAR
VERSION:2.0
PRODID:-//Murray PHN - ECPv6.15.20//NONSGML v1.0//EN
CALSCALE:GREGORIAN
METHOD:PUBLISH
X-ORIGINAL-URL:https://murrayphn.org.au
X-WR-CALDESC:Events for Murray PHN
REFRESH-INTERVAL;VALUE=DURATION:PT1H
X-Robots-Tag:noindex
X-PUBLISHED-TTL:PT1H
BEGIN:VTIMEZONE
TZID:Australia/Melbourne
BEGIN:STANDARD
TZOFFSETFROM:+1100
TZOFFSETTO:+1000
TZNAME:AEST
DTSTART:20250405T160000
END:STANDARD
BEGIN:DAYLIGHT
TZOFFSETFROM:+1000
TZOFFSETTO:+1100
TZNAME:AEDT
DTSTART:20251004T160000
END:DAYLIGHT
BEGIN:STANDARD
TZOFFSETFROM:+1100
TZOFFSETTO:+1000
TZNAME:AEST
DTSTART:20260404T160000
END:STANDARD
BEGIN:DAYLIGHT
TZOFFSETFROM:+1000
TZOFFSETTO:+1100
TZNAME:AEDT
DTSTART:20261003T160000
END:DAYLIGHT
BEGIN:STANDARD
TZOFFSETFROM:+1100
TZOFFSETTO:+1000
TZNAME:AEST
DTSTART:20270403T160000
END:STANDARD
BEGIN:DAYLIGHT
TZOFFSETFROM:+1000
TZOFFSETTO:+1100
TZNAME:AEDT
DTSTART:20271002T160000
END:DAYLIGHT
END:VTIMEZONE
BEGIN:VEVENT
DTSTART;TZID=Australia/Melbourne:20260610T110000
DTEND;TZID=Australia/Melbourne:20260610T130000
DTSTAMP:20260422T202027
CREATED:20260420T015736Z
LAST-MODIFIED:20260420T015736Z
UID:10003018-1781089200-1781096400@murrayphn.org.au
SUMMARY:General Practice Network Meeting | Mildura
DESCRIPTION:General practice staff are invited to attend this network meeting to hear from Murray PHN and the Royal Australian College of General Practitioners (RACGP) and receive an overview of RACGP’s Standards for general practice (6th edition). \nClick here to register.
URL:https://murrayphn.org.au/event/general-practice-network-meeting-mildura-4/
LOCATION:Monash University – Rural Health Mildura\, 231 – 237 Thirteenth Street\, Mildura\, VIC\, 3500\, Australia
CATEGORIES:Mildura,Networking
ATTACH;FMTTYPE=image/jpeg:https://murrayphn.org.au/wp-content/uploads/2025/08/phn-event-GPNETWK-MEETING.jpg
ORGANIZER;CN="Murray PHN":MAILTO:education@murrayphn.org.au
END:VEVENT
END:VCALENDAR