BEGIN:VCALENDAR
VERSION:2.0
PRODID:-//Murray PHN - ECPv6.15.20//NONSGML v1.0//EN
CALSCALE:GREGORIAN
METHOD:PUBLISH
X-WR-CALNAME:Murray PHN
X-ORIGINAL-URL:https://murrayphn.org.au
X-WR-CALDESC:Events for Murray PHN
REFRESH-INTERVAL;VALUE=DURATION:PT1H
X-Robots-Tag:noindex
X-PUBLISHED-TTL:PT1H
BEGIN:VTIMEZONE
TZID:Australia/Melbourne
BEGIN:STANDARD
TZOFFSETFROM:+1100
TZOFFSETTO:+1000
TZNAME:AEST
DTSTART:20240406T160000
END:STANDARD
BEGIN:DAYLIGHT
TZOFFSETFROM:+1000
TZOFFSETTO:+1100
TZNAME:AEDT
DTSTART:20241005T160000
END:DAYLIGHT
BEGIN:STANDARD
TZOFFSETFROM:+1100
TZOFFSETTO:+1000
TZNAME:AEST
DTSTART:20250405T160000
END:STANDARD
BEGIN:DAYLIGHT
TZOFFSETFROM:+1000
TZOFFSETTO:+1100
TZNAME:AEDT
DTSTART:20251004T160000
END:DAYLIGHT
BEGIN:STANDARD
TZOFFSETFROM:+1100
TZOFFSETTO:+1000
TZNAME:AEST
DTSTART:20260404T160000
END:STANDARD
BEGIN:DAYLIGHT
TZOFFSETFROM:+1000
TZOFFSETTO:+1100
TZNAME:AEDT
DTSTART:20261003T160000
END:DAYLIGHT
END:VTIMEZONE
BEGIN:VEVENT
DTSTART;TZID=Australia/Melbourne:20250613T180000
DTEND;TZID=Australia/Melbourne:20250613T200000
DTSTAMP:20260426T020219
CREATED:20250513T003530Z
LAST-MODIFIED:20250513T003530Z
UID:10002635-1749837600-1749844800@murrayphn.org.au
SUMMARY:Marc Ryan\, The Beautiful Bogan - A Story of Hope | Swan Hill
DESCRIPTION:Come along to a one-of-a-kind comedy show\, as Marc Ryan\, known as the Beautiful Bogan\, shares his experiences of post-traumatic stress disorder and living with thoughts of suicide to help normalise conversations about mental health. There will be lots of jokes\, laughter\, stories and above all\, hope shared. \nThis event is for audiences MA15+ (parental guidance recommend). \nContent Advisory. This performance contains strong language and discusses living with thoughts of suicide. \nClick here to learn more and register. \n 
URL:https://murrayphn.org.au/event/marc-ryan-the-beautiful-bogan-a-story-of-hope-swan-hill/
LOCATION:One28 Doors\, 128 Curlewis Street\, Swan Hill\, Victoria\, 3585\, Australia
CATEGORIES:Community,Swan Hill
ATTACH;FMTTYPE=image/jpeg:https://murrayphn.org.au/wp-content/uploads/2025/03/WWGD-event_website_page-graphic.jpg
ORGANIZER;CN="Murray PHN":MAILTO:education@murrayphn.org.au
END:VEVENT
END:VCALENDAR