BEGIN:VCALENDAR
VERSION:2.0
PRODID:-//Murray PHN - ECPv6.15.20//NONSGML v1.0//EN
CALSCALE:GREGORIAN
METHOD:PUBLISH
X-ORIGINAL-URL:https://murrayphn.org.au
X-WR-CALDESC:Events for Murray PHN
REFRESH-INTERVAL;VALUE=DURATION:PT1H
X-Robots-Tag:noindex
X-PUBLISHED-TTL:PT1H
BEGIN:VTIMEZONE
TZID:Australia/Melbourne
BEGIN:STANDARD
TZOFFSETFROM:+1100
TZOFFSETTO:+1000
TZNAME:AEST
DTSTART:20250405T160000
END:STANDARD
BEGIN:DAYLIGHT
TZOFFSETFROM:+1000
TZOFFSETTO:+1100
TZNAME:AEDT
DTSTART:20251004T160000
END:DAYLIGHT
BEGIN:STANDARD
TZOFFSETFROM:+1100
TZOFFSETTO:+1000
TZNAME:AEST
DTSTART:20260404T160000
END:STANDARD
BEGIN:DAYLIGHT
TZOFFSETFROM:+1000
TZOFFSETTO:+1100
TZNAME:AEDT
DTSTART:20261003T160000
END:DAYLIGHT
BEGIN:STANDARD
TZOFFSETFROM:+1100
TZOFFSETTO:+1000
TZNAME:AEST
DTSTART:20270403T160000
END:STANDARD
BEGIN:DAYLIGHT
TZOFFSETFROM:+1000
TZOFFSETTO:+1100
TZNAME:AEDT
DTSTART:20271002T160000
END:DAYLIGHT
END:VTIMEZONE
BEGIN:VEVENT
DTSTART;TZID=Australia/Melbourne:20260520T183000
DTEND;TZID=Australia/Melbourne:20260520T203000
DTSTAMP:20260426T003207
CREATED:20260423T011756Z
LAST-MODIFIED:20260423T011756Z
UID:10003025-1779301800-1779309000@murrayphn.org.au
SUMMARY:Sexual and reproductive health update | Swan Hill
DESCRIPTION:GPs\, nurses\, nurse practitioners\, Aboriginal health practitioners and workers can attend this event for updates on local sexually transmissible infection and bloodborne virus epidemiology and reproductive healthcare. Hear from presenters from The Royal Women’s Hospital\, Loddon Mallee Public Health Unit\, Swan Hill District Health and the Centre for Excellence in Rural Sexual Health. \nClick here to learn more and register.
URL:https://murrayphn.org.au/event/sexual-and-reproductive-health-update-swan-hill/
LOCATION:One28 Doors\, 128 Curlewis Street\, Swan Hill\, Victoria\, 3585\, Australia
CATEGORIES:Swan Hill,Workshop
ATTACH;FMTTYPE=image/jpeg:https://murrayphn.org.au/wp-content/uploads/2024/05/phn-event.jpg
ORGANIZER;CN="Murray PHN":MAILTO:education@murrayphn.org.au
END:VEVENT
END:VCALENDAR