BEGIN:VCALENDAR
VERSION:2.0
PRODID:-//Murray PHN - ECPv6.15.20//NONSGML v1.0//EN
CALSCALE:GREGORIAN
METHOD:PUBLISH
X-ORIGINAL-URL:https://murrayphn.org.au
X-WR-CALDESC:Events for Murray PHN
REFRESH-INTERVAL;VALUE=DURATION:PT1H
X-Robots-Tag:noindex
X-PUBLISHED-TTL:PT1H
BEGIN:VTIMEZONE
TZID:Australia/Melbourne
BEGIN:STANDARD
TZOFFSETFROM:+1100
TZOFFSETTO:+1000
TZNAME:AEST
DTSTART:20240406T160000
END:STANDARD
BEGIN:DAYLIGHT
TZOFFSETFROM:+1000
TZOFFSETTO:+1100
TZNAME:AEDT
DTSTART:20241005T160000
END:DAYLIGHT
BEGIN:STANDARD
TZOFFSETFROM:+1100
TZOFFSETTO:+1000
TZNAME:AEST
DTSTART:20250405T160000
END:STANDARD
BEGIN:DAYLIGHT
TZOFFSETFROM:+1000
TZOFFSETTO:+1100
TZNAME:AEDT
DTSTART:20251004T160000
END:DAYLIGHT
BEGIN:STANDARD
TZOFFSETFROM:+1100
TZOFFSETTO:+1000
TZNAME:AEST
DTSTART:20260404T160000
END:STANDARD
BEGIN:DAYLIGHT
TZOFFSETFROM:+1000
TZOFFSETTO:+1100
TZNAME:AEDT
DTSTART:20261003T160000
END:DAYLIGHT
END:VTIMEZONE
BEGIN:VEVENT
DTSTART;TZID=Australia/Melbourne:20251030T181500
DTEND;TZID=Australia/Melbourne:20251030T203000
DTSTAMP:20260422T195739
CREATED:20250908T041318Z
LAST-MODIFIED:20251023T000519Z
UID:10002735-1761848100-1761856200@murrayphn.org.au
SUMMARY:Supporting coordination of palliative care | Echuca (CANCELLED)
DESCRIPTION:GPs and GP registrars are invited to come together to learn\, share knowledge and improve their palliative care practice. The event will welcome Dr Anna Keedwell\, Palliative Care Specialist from Bendigo Community Specialist Palliative Care Service and Jan Carey\, Community Specialist Palliative Care ANUM/ Nurse Consultant at Echuca Regional Health. \nPlease note that this event has been cancelled. \n 
URL:https://murrayphn.org.au/event/working-with-palliative-care-patients-echuca/
LOCATION:Quest Echuca\, 25-29 Heygarth Street\, Echuca\, Victoria\, 3564\, Australia
CATEGORIES:Echuca,Networking,Workshop
ATTACH;FMTTYPE=image/jpeg:https://murrayphn.org.au/wp-content/uploads/2025/09/CPD-event-CoP-for-GPs-and-GP-registrars.jpg
ORGANIZER;CN="Murray PHN":MAILTO:education@murrayphn.org.au
GEO:-36.1245964;144.7493572
X-APPLE-STRUCTURED-LOCATION;VALUE=URI;X-ADDRESS=Quest Echuca 25-29 Heygarth Street Echuca Victoria 3564 Australia;X-APPLE-RADIUS=500;X-TITLE=25-29 Heygarth Street:geo:144.7493572,-36.1245964
END:VEVENT
END:VCALENDAR