BEGIN:VCALENDAR
VERSION:2.0
PRODID:-//Murray PHN - ECPv6.15.20//NONSGML v1.0//EN
CALSCALE:GREGORIAN
METHOD:PUBLISH
X-ORIGINAL-URL:https://murrayphn.org.au
X-WR-CALDESC:Events for Murray PHN
REFRESH-INTERVAL;VALUE=DURATION:PT1H
X-Robots-Tag:noindex
X-PUBLISHED-TTL:PT1H
BEGIN:VTIMEZONE
TZID:Australia/Melbourne
BEGIN:STANDARD
TZOFFSETFROM:+1100
TZOFFSETTO:+1000
TZNAME:AEST
DTSTART:20250405T160000
END:STANDARD
BEGIN:DAYLIGHT
TZOFFSETFROM:+1000
TZOFFSETTO:+1100
TZNAME:AEDT
DTSTART:20251004T160000
END:DAYLIGHT
BEGIN:STANDARD
TZOFFSETFROM:+1100
TZOFFSETTO:+1000
TZNAME:AEST
DTSTART:20260404T160000
END:STANDARD
BEGIN:DAYLIGHT
TZOFFSETFROM:+1000
TZOFFSETTO:+1100
TZNAME:AEDT
DTSTART:20261003T160000
END:DAYLIGHT
BEGIN:STANDARD
TZOFFSETFROM:+1100
TZOFFSETTO:+1000
TZNAME:AEST
DTSTART:20270403T160000
END:STANDARD
BEGIN:DAYLIGHT
TZOFFSETFROM:+1000
TZOFFSETTO:+1100
TZNAME:AEDT
DTSTART:20271002T160000
END:DAYLIGHT
END:VTIMEZONE
BEGIN:VEVENT
DTSTART;TZID=Australia/Melbourne:20260428T100000
DTEND;TZID=Australia/Melbourne:20260428T150000
DTSTAMP:20260426T140207
CREATED:20251215T002915Z
LAST-MODIFIED:20260413T035702Z
UID:10002841-1777370400-1777388400@murrayphn.org.au
SUMMARY:Introduction to Aboriginal Cultural Safety | Online (fully booked - join waitlist)
DESCRIPTION:This training is suitable general practice and mental health services staff and other primary healthcare professionals working in the Murray PHN catchment. \nFacilitated by the Victorian Aboriginal Community Controlled Health Organisation (VACCHO)\, the training will offer foundational knowledge and awareness on Aboriginal and Torres Strait Islander peoples\, identities and cultures while exploring the basics of cultural safety and simple ways to put it into practice. \nVACCHO’s Aboriginal and Torres Strait Islander facilitators enhance participant experience and learning by sharing cultural knowledge and lived experience in a safe learning environment where questions are encouraged and welcome. \nThis event is fully booked. Click here to join the waitlist. \nClick here for a flyer.
URL:https://murrayphn.org.au/event/introduction-to-aboriginal-cultural-safety-online-11/
LOCATION:Webinar
CATEGORIES:Webinar
ATTACH;FMTTYPE=image/jpeg:https://murrayphn.org.au/wp-content/uploads/2024/05/VACCHO_intro-to-aborignal-cultural-safety.jpg
ORGANIZER;CN="Murray PHN":MAILTO:education@murrayphn.org.au
END:VEVENT
BEGIN:VEVENT
DTSTART;TZID=Australia/Melbourne:20260430T130000
DTEND;TZID=Australia/Melbourne:20260430T134500
DTSTAMP:20260426T140207
CREATED:20260319T005748Z
LAST-MODIFIED:20260319T005748Z
UID:10002980-1777554000-1777556700@murrayphn.org.au
SUMMARY:Supporting patient care with the Victorian Virtual Emergency Department and Virtual Specialist Consult services | Online
DESCRIPTION:This session will provide a practical overview of the Victorian Virtual Emergency Department (VVED) and Virtual Specialist Consult (VSC) services\, including how clinicians can access them\, what to expect from a consult and the range of specialties available. \nClick here to register.
URL:https://murrayphn.org.au/event/supporting-patient-care-with-the-victorian-virtual-emergency-department-and-virtual-specialist-consult-services-online/
LOCATION:Webinar
CATEGORIES:Webinar
ATTACH;FMTTYPE=image/jpeg:https://murrayphn.org.au/wp-content/uploads/2026/03/Murray-PHN-webinar.jpg
ORGANIZER;CN="Murray PHN":MAILTO:education@murrayphn.org.au
END:VEVENT
BEGIN:VEVENT
DTSTART;TZID=Australia/Melbourne:20260512T120000
DTEND;TZID=Australia/Melbourne:20260512T130000
DTSTAMP:20260426T140207
CREATED:20260402T030026Z
LAST-MODIFIED:20260402T030026Z
UID:10002997-1778587200-1778590800@murrayphn.org.au
SUMMARY:National Lung Cancer Screening Program: A practical guide for nurse practitioners | Online
DESCRIPTION:Join this informative webinar to hear from Hannah McGinty from Lung Foundation Australia\, who will provide a clear\, practical overview on the National Lung Cancer Screening Program (NLCSP)\, covering the eligibility criteria\, screening and assessment pathway\, and role of the nurse practitioner. \nClick here to register.
URL:https://murrayphn.org.au/event/national-lung-cancer-screening-program-a-practical-guide-for-nurse-practitioners-online/
LOCATION:Webinar
CATEGORIES:Webinar
ATTACH;FMTTYPE=image/jpeg:https://murrayphn.org.au/wp-content/uploads/2026/04/CPD-event_NP-CoP.jpg
ORGANIZER;CN="Murray PHN":MAILTO:education@murrayphn.org.au
END:VEVENT
BEGIN:VEVENT
DTSTART;TZID=Australia/Melbourne:20260514T190000
DTEND;TZID=Australia/Melbourne:20260514T203000
DTSTAMP:20260426T140207
CREATED:20260423T040442Z
LAST-MODIFIED:20260423T040442Z
UID:10003026-1778785200-1778790600@murrayphn.org.au
SUMMARY:Reshaping asthma management | Online
DESCRIPTION:An interactive panel discussion about the latest recommendations and key themes following the launch of the Australian Asthma Handbook guidelines in 2025. \nClick here to learn more and register.
URL:https://murrayphn.org.au/event/reshaping-asthma-management-online/
LOCATION:Webinar
CATEGORIES:External event,Webinar
ATTACH;FMTTYPE=image/jpeg:https://murrayphn.org.au/wp-content/uploads/2024/05/event-external2.jpg
END:VEVENT
BEGIN:VEVENT
DTSTART;TZID=Australia/Melbourne:20260625T100000
DTEND;TZID=Australia/Melbourne:20260625T150000
DTSTAMP:20260426T140207
CREATED:20251215T003016Z
LAST-MODIFIED:20251215T003016Z
UID:10002842-1782381600-1782399600@murrayphn.org.au
SUMMARY:Introduction to Aboriginal Cultural Safety | Online
DESCRIPTION:This training is suitable general practice and mental health services staff and other primary healthcare professionals working in the Murray PHN catchment. \nFacilitated by the Victorian Aboriginal Community Controlled Health Organisation (VACCHO)\, the training will offer foundational knowledge and awareness on Aboriginal and Torres Strait Islander peoples\, identities and cultures while exploring the basics of cultural safety and simple ways to put it into practice. \nVACCHO’s Aboriginal and Torres Strait Islander facilitators enhance participant experience and learning by sharing cultural knowledge and lived experience in a safe learning environment where questions are encouraged and welcome. \nClick here to register. \nClick here for a flyer.
URL:https://murrayphn.org.au/event/introduction-to-aboriginal-cultural-safety-online-12/
LOCATION:Webinar
CATEGORIES:Webinar
ATTACH;FMTTYPE=image/jpeg:https://murrayphn.org.au/wp-content/uploads/2024/05/VACCHO_intro-to-aborignal-cultural-safety.jpg
ORGANIZER;CN="Murray PHN":MAILTO:education@murrayphn.org.au
END:VEVENT
BEGIN:VEVENT
DTSTART;TZID=Australia/Melbourne:20260630T180000
DTEND;TZID=Australia/Melbourne:20260630T203000
DTSTAMP:20260426T140207
CREATED:20260420T013825Z
LAST-MODIFIED:20260420T014012Z
UID:10003015-1782842400-1782851400@murrayphn.org.au
SUMMARY:Hope for the best\, plan for the rest online workshop | Yackandandah
DESCRIPTION:This workshop is designed to empower individuals and their families who are facing a life-changing illness by helping them navigate care with confidence. \nClick here to learn more and register.
URL:https://murrayphn.org.au/event/hope-for-the-best-plan-for-the-rest-workshop-yackandandah/
LOCATION:Webinar
CATEGORIES:Community,Webinar,Workshop,Yackandandah
ATTACH;FMTTYPE=image/png:https://murrayphn.org.au/wp-content/uploads/2026/04/Good2go-workshop-website-banner.png
ORGANIZER;CN="The Good2Go collective":MAILTO:g2gcollective@gmail.com
END:VEVENT
END:VCALENDAR